Workbook

Sheet 冊子
B3: 9月3日～9月25日受理求人 発行日:9月28日
B4: 発行日: 10月5日
B12: =data!CO2 -> 盆栽の手入れや庭木の手入れ | G12: =data!CO3 -> 福祉理容師 福祉美容師（正）／赤穂郡上郡町、佐用町、他 | L12: =data!CO4 -> （パ）事務補助／上郡町役場／育休代替職員
B13: =data!EE2 -> 盆栽や庭木の管理・お手入れ全般をお任せします。_x000d_ _x000d_ 【具体的な業務内容】_x000d_ ・主に盆栽の手入れ_x000d_ その他_x000d_ ・盆栽や庭木への水やり_x000d_ ・敷地内の植木の剪定、枝切り、形整え_x000d_ ・お庭の草抜き、草むしり、清掃、ゴミまとめ_x000d_ ・その他、付随するお庭の軽作業_x000d_ _x000d_ ※盆栽の育成・手入れに関する知識や、ご趣味・実務での経験がある方を歓迎いたします。 変更範囲：変更なし | G13: =data!EE3 -> 個人宅・病院・デイサービスセンター・老人保健施設・福祉施設などに訪問し、理美容サービスを提供する社会貢献度の高いお仕事です。_x000d_ _x000d_ _x000d_ 変更範囲：変更なし | L13: =data!EE4 -> 上郡町役場「国保介護支援課」（育休代替職員）_x000d_ 町民のための行政サービス（介護保険事業に関する業務）事務・窓口業務・電話対応・書類整理など_x000d_ 令和８年１０月１日～令和９年２月２６日まで（更新なし） _x000d_ _x000d_ _x000d_ 【変更範囲：行政の定める業務】_x000d_
B14: =data!OL2 -> 時給 | C14: =data!OU2 -> 1,200円～1,200円 | G14: =data!OL3 -> 月給 | H14: =data!OU3 -> 250,000円～500,000円 | L14: =data!OL4 -> 時給 | M14: =data!OU4 -> 1,203円～1,223円
B15: =data!NF2 -> パート労働者 | D15: 募集人数 | E15: =data!QJ2 -> 1人 | G15: =data!NF3 -> 正社員 | I15: 募集人数 | J15: =data!QJ3 -> 2人 | L15: =data!NF4 -> パート労働者 | N15: 募集人数 | O15: =data!QJ4 -> 1人
B16: 勤務時間 | C16: =data!PK2 -> 0 | G16: 勤務時間 | H16: =data!PK3 -> (1)9時00分～18時00分 | L16: 勤務時間 | M16: =data!PK4 -> (1)9時00分～17時00分
C17: =data!PL2 -> 0 | H17: =data!PL3 -> 0 | M17: =data!PL4 -> 0
C18: =SUBSTITUTE(data!PN2,"又は","") -> 9時00分～17時00分の間の3時間程度 | H18: =SUBSTITUTE(data!PN3,"又は","") | M18: =SUBSTITUTE(data!PN4,"又は","")
B19: 休日 | C19: =data!PU2 -> 他 | D19: 週休２日制 | E19: =data!PV2 -> 毎 週 | G19: 休日 | H19: =data!PU3 -> 土日祝 | I19: 週休２日制 | J19: =data!PV3 -> 毎 週 | L19: 休日 | M19: =data!PU4 -> 土日祝他 | N19: 週休２日制 | O19: =data!PV4 -> 毎 週
B20: 年齢 | C20: =data!NW2 -> 不問 | D20: 年間休日 | E20: =data!PX2 -> 0 | G20: 年齢 | H20: =data!NW3 -> 不問 | I20: 年間休日 | J20: =data!PX3 -> 120日 | L20: 年齢 | M20: =data!NW4 -> 不問 | N20: 年間休日 | O20: =data!PX4 -> 0
B21: 資格 | C21: =data!GE2 -> 0 | G21: 資格 | H21: =data!GE3 -> 0 | L21: 資格 | M21: =data!GE4 -> 0
B22: =data!H2 -> ホワイトライン | G22: =data!H3 -> 株式会社 シルバーサポートジャパン | L22: =data!H4 -> 上郡町役場
B23: 就業場所 | D23: =data!DR2 -> 兵庫県赤穂市 | G23: 就業場所 | I23: =data!DR3 -> 兵庫県赤穂郡上郡町 | L23: 就業場所 | N23: =data!DR4 -> 兵庫県赤穂郡上郡町
B24: 求人番号 | D24: =data!A2 -> 28212- 1549861 | G24: 求人番号 | I24: =data!A3 -> 40010-58247161 | L24: 求人番号 | N24: =data!A4 -> 28211- 1546861
B26: =data!$CO$5 -> （パ）障害者就労指導員（Ｗワーク可能） | G26: =data!$CO$6 -> （パ）調理員／上郡町／未経験者歓迎◎丁寧にサポートします | L26: =data!$CO$7 -> 正社員：施設介護員（介護）／６５歳以上の方、応募可能
B27: =data!EE5 -> 【障害者就労指導員】 ＊障害者就労支援事業にて障害者作業員へのサポート、自立支援のお手伝いをお願いします。作業同行あり。細かな指導、サポート を行います。_x000d_ ＊社有車（ワゴン車 ＡＴ車）を使用します。主に相生市内です。_x000d_ ＊Ｗワーク可能です。（許可申請、必要）_x000d_ _x000d_ 【変更範囲：変更なし】 | G27: =data!EE6 -> ◆介護老人保健施設、入所者・デイサービス利用者さまへの厨房業務全般。（約１８０食）_x000d_ ◆１食材の準備 ２下処理 ３調理補助 ４盛付 ５洗浄_x000d_ （１項目から覚えていただきます。）_x000d_ ◆上記、５項目の仕事について、１項目でもできる方は、相談に応じます。_x000d_ ◆経験のない方でも丁寧にサポートします。_x000d_ _x000d_ 【変更範囲：変更なし】 | L27: =data!EE7 -> ＊認知症のある方の施設内での日常的介護業務および調理。_x000d_ （家事活動が多く含まれます。） ■９人の介護及び調理を行って頂きます。_x000d_ ・介護 食事の介助・トイレの付き添い等。_x000d_ ・調理 昼食・夕食食。_x000d_ ・清掃 廊下・階段・リビング・トイレ・お風呂場等。 _x000d_ ◆６５歳以上の方、応募可能（契約社員）_x000d_ ＊職場見学可能です。_x000d_ _x000d_ 【変更範囲：変更なし】
B28: =data!OL5 -> 時給 | C28: =data!OU5 -> 1,172円～1,260円 | G28: =data!OL6 -> 時給 | H28: =data!OU6 -> 1,175円～1,180円 | L28: =data!OL7 -> 月給 | M28: =data!OU7 -> 200,000円～200,000円
B29: =data!NF5 -> パート労働者 | D29: 募集人数 | E29: =data!QJ5 -> 1人 | G29: =data!NF6 -> パート労働者 | I29: 募集人数 | J29: =data!QJ6 -> 2人 | L29: =data!NF7 -> 正社員 | N29: 募集人数 | O29: =data!QJ7 -> 1人
B30: 勤務時間 | C30: =data!PK5 -> (1)9時00分～14時30分 | G30: 勤務時間 | H30: =data!PK6 -> (1)6時30分～9時30分 | L30: 勤務時間 | M30: =data!PK7 -> (1)8時30分～17時30分
C31: =data!PL5 -> 0 | H31: =data!PL6 -> (2)9時00分～13時00分 | M31: =data!PL7 -> 0
C32: =SUBSTITUTE(data!PN5,"又は","") | H32: =SUBSTITUTE(data!PN6,"又は","") -> 6時00分～19時00分の間の4時間程度 | M32: =SUBSTITUTE(data!PN7,"又は","")
B33: 休日 | C33: =data!PU5 -> 日他 | D33: 週休２日制 | E33: =data!PV5 -> その他 | G33: 休日 | H33: =data!PU6 -> 他 | I33: 週休２日制 | J33: =data!PV6 -> その他 | L33: 休日 | M33: =data!PU7 -> 他 | N33: 週休２日制 | O33: =data!PV7 -> 毎 週
B34: 年齢 | C34: =data!NW5 -> 64歳以下 | D34: 年間休日 | E34: =data!PX5 -> 0 | G34: 年齢 | H34: =data!NW6 -> 不問 | I34: 年間休日 | J34: =data!PX6 -> 0 | L34: 年齢 | M34: =data!NW7 -> 18歳～59歳 | N34: 年間休日 | O34: =data!PX7 -> 113日
B35: 資格 | C35: =data!GE5 -> 0 | G35: 資格 | H35: =data!GE6 -> 0 | L35: 資格 | M35: =data!GE7 -> 普通自動車免許（通勤用）
B36: =data!H5 -> 合同会社 アズ | G36: =data!H6 -> 医療法人社団 豊寿会 介護老人保健施設 高嶺の郷 | L36: =data!H7 -> 社会福祉法人 みどリ福祉会 認知症高齢者グループホーム グリーン
B37: 就業場所 | D37: =data!DR5 -> 兵庫県相生市 | G37: 就業場所 | I37: =data!DR6 -> 兵庫県赤穂郡上郡町 | L37: 就業場所 | N37: =data!DR7 -> 兵庫県相生市
B38: 求人番号 | D38: =data!A5 -> 28211- 1547961 | G38: 求人番号 | I38: =data!A6 -> 28211- 1548161 | L38: 求人番号 | N38: =data!A7 -> 28211- 1535561
B40: =data!$CO$8 -> （パ）ゴルフ場／マスター室業務スタッフ | G40: =data!$CO$9 -> 正社員：支援員／６０歳以上の方、応募可能（契約社員） | L40: =data!$CO$10 -> （パ）生活支援員／日常生活のお手伝い
B41: =data!EE8 -> ゴルフ場マスター室業務全般。_x000d_ ・バッグの受け渡し（ポーター業務）_x000d_ ・カートの管理（整備、スタート順配置）_x000d_ ・キャディバッグの積み下ろし、クラブ確認。_x000d_ ・コース内巡回など運行管理補助。_x000d_ _x000d_ _x000d_ 【変更範囲：変更なし】_x000d_ | G41: =data!EE9 -> 支援員業務_x000d_ ※知的障害者の介護支援業務。（入所者約５０人）_x000d_ ※知的障害者の作業の補助。_x000d_ ※食事・入浴・排泄の介助を行っていただきます。_x000d_ ／６０歳以上の方、応募可能（契約社員）_x000d_ ／見学可能です_x000d_ _x000d_ 【変更範囲：変更なし】_x000d_ _x000d_ | L41: =data!EE10 -> 障害者の方が、共同生活をされるグループホーム『グループホームｕｍｉ・凪』にて、利用者さま（１居住区最大５名）が安心して生活していただくように、日常生活のお手伝い（食事つくり）などお願いします。_x000d_ ＊食事の調理について：材料、献立は整っており、家庭のご飯作りができる方であれば大丈夫です_x000d_ ＊６０歳以上の方、応募可能です_x000d_ _x000d_ 【変更範囲：変更なし】
B42: =data!OL8 -> 時給 | C42: =data!OU8 -> 1,172円～1,200円 | G42: =data!OL9 -> 月給 | H42: =data!OU9 -> 165,000円～172,000円 | L42: =data!OL10 -> 時給 | M42: =data!OU10 -> 1,180円～1,180円
B43: =data!NF8 -> パート労働者 | D43: 募集人数 | E43: =data!QJ8 -> 1人 | G43: =data!NF9 -> 正社員 | I43: 募集人数 | J43: =data!QJ9 -> 1人 | L43: =data!NF10 -> パート労働者 | N43: 募集人数 | O43: =data!QJ10 -> 1人
B44: 勤務時間 | C44: =data!PK8 -> 0 | G44: 勤務時間 | H44: =data!PK9 -> (1)7時00分～16時00分 | L44: 勤務時間 | M44: =data!PK10 -> (1)7時00分～9時30分
C45: =data!PL8 -> 0 | H45: =data!PL9 -> (2)8時30分～17時30分 | M45: =data!PL10 -> (2)14時30分～19時00分
C46: =SUBSTITUTE(data!PN8,"又は","") -> 6時30分～16時00分の間の5時間程度 | H46: =SUBSTITUTE(data!PN9,"又は","") | M46: =SUBSTITUTE(data!PN10,"又は","")
B47: 休日 | C47: =data!PU8 -> 他 | D47: 週休２日制 | E47: =data!PV8 -> 毎 週 | G47: 休日 | H47: =data!PU9 -> 他 | I47: 週休２日制 | J47: =data!PV9 -> その他 | L47: 休日 | M47: =data!PU10 -> 他 | N47: 週休２日制 | O47: =data!PV10 -> その他
B48: 年齢 | C48: =data!NW8 -> 不問 | D48: 年間休日 | E48: =data!PX8 -> 0 | G48: 年齢 | H48: =data!NW9 -> 18歳～59歳 | I48: 年間休日 | J48: =data!PX9 -> 113日 | L48: 年齢 | M48: =data!NW10 -> 不問 | N48: 年間休日 | O48: =data!PX10 -> 0
B49: 資格 | C49: =data!GE8 -> 0 | G49: 資格 | H49: =data!GE9 -> 普通自動車免許（通勤用） | L49: 資格 | M49: =data!GE10 -> 0
B50: =data!H8 -> 西播開発 株式会社 | G50: =data!H9 -> 社会福祉法人みどり福祉会 若狭野荘 | L50: =data!H10 -> 社会福祉法人みどり福祉会 障害者グループホーム入野グリーン
B51: 就業場所 | D51: =data!DR8 -> 兵庫県相生市 | G51: 就業場所 | I51: =data!DR9 -> 兵庫県相生市 | L51: 就業場所 | N51: =data!DR10 -> 兵庫県相生市
...

Sheet data
A1: 求人番号 | B1: 事業所番号 | C1: 法人番号 | D1: 設立元号区分 | E1: 設立年 | F1: 資本金 | G1: 従業員数／企業全体 | H1: 事業所名 | I1: 事業所名カナ | J1: 代表者役職 | K1: 代表者名 | L1: 事業所所在地／郵便番号 | M1: 事業所所在地／住所 | N1: 事業所所在地／最寄り駅１／最寄り駅 | O1: 事業所所在地／最寄り駅１／交通手段 | P1: 事業所所在地／最寄り駅１／所要時間 | Q1: 電話番号 | R1: 事業内容 | S1: 派遣事業分類 | T1: 労働者派遣事業許可番号 | U1: 会社の特長 | V1: 労働組合有無 | W1: 職務給制度の有無 | X1: 育児休業取得実績有無 | Y1: 介護休業取得実績有無 | Z1: 看護休暇取得実績有無 | AA1: 復職制度の有無 | AB1: 就業規則フルタイム有無 | AC1: 就業規則パート有無 | AD1: ＨＰアドレス文字列 | AE1: ＰＲロゴマーク等１ | AF1: ＰＲロゴマーク等２ | AG1: ＰＲロゴマーク等３ | AH1: ＰＲロゴマーク等４ | AI1: 産業分類 | AJ1: 住所コード | AK1: ※設立年 | AL1: ※資本金 | AM1: ※従業員数／企業全体 | AN1: ※労働者派遣事業許可番号 | AO1: ※事業所所在地／最寄り駅 | AP1: ※労働組合有無 | AQ1: ※職務給制度の有無 | AR1: ※育児休業取得実績有無 | AS1: ※介護休業取得実績有無 | AT1: ※看護休暇取得実績有無 | AU1: ※復職制度の有無 | AV1: ※就業規則フルタイム有無 | AW1: ※就業規則パート有無 | AX1: ※ＰＲロゴマーク等１ | AY1: ※ＰＲロゴマーク等２ | AZ1: ※ＰＲロゴマーク等３ | BA1: ※ＰＲロゴマーク等４ | BB1: ※産業分類 | BC1: 事業所台帳地図／就業場所／就業場所名称 | BD1: 事業所台帳地図／選考場所／就業場所名称 | BE1: 事業所台帳地図／就業場所／郵便番号 | BF1: 事業所台帳地図／選考場所／郵便番号 | BG1: 事業所台帳地図／就業場所／住所 | BH1: 事業所台帳地図／選考場所／住所 | BI1: 事業所台帳地図／就業場所／最寄り駅１／最寄り駅 | BJ1: 事業所台帳地図／選考場所／最寄り駅１／最寄り駅 | BK1: ※イメージ区分 | BL1: 管轄安定所番号 | BM1: 求人有効年月日 | BN1: 求人区分１ | BO1: 障害者区分 | BP1: 求人区分２ | BQ1: 求人受理年月日 | BR1: 就労継続支援Ａ型事業の利用者募集 | BS1: トライアル雇用併用の希望 | BT1: 公開希望 | BU1: ハローワーク以外への情報公開 | BV1: 保留理由 | BW1: 求人取消理由 | BX1: 紹介期限年月日 | BY1: 識別欄１ | BZ1: 識別欄２ | CA1: 識別欄３ | CB1: 識別欄４ | CC1: 識別欄５ | CD1: 識別欄６ | CE1: 識別欄７ | CF1: 識別欄８ | CG1: 識別欄９ | CH1: 識別欄１０ | CI1: 就業場所住所コード１ | CJ1: 就業場所住所コード２ | CK1: 就業場所住所コード３ | CL1: 就業場所住所コード４ | CM1: 指名求人 | CN1: 求人公開 | CO1: 職種名 | CP1: 職業分類コード１ | CQ1: 職業分類コード２ | CR1: 職業分類コード３ | CS1: 職種／派遣・請負の区分 | CT1: 免許・資格コード１ | CU1: 免許・資格コード２ | CV1: 免許・資格コード３ | CW1: 地図情報用／選考場所／事業所台帳管轄安定所番号 | CX1: 地図情報用／選考場所／事業所番号 | CY1: 地図情報用／選考場所／レコード番号 | CZ1: 地図情報用／就業場所／事業所台帳管轄安定所番号 | DA1: 地図情報用／就業場所／事業所番号 | DB1: 地図情報用／就業場所／レコード番号 | DC1: 求人充足状況区分 | DD1: 求人充足数合計 | DE1: 紹介保留処理／日付時刻 | DF1: 紹介保留処理／ユーザＩＤ | DG1: ※無効表示 | DH1: ※求人区分１ | DI1: ※障害者区分 | DJ1: ※求人受理年月日 | DK1: ※就労継続支援Ａ型事業の利用者募集 | DL1: ※トライアル雇用併用の希望 | DM1: ※公開希望 | DN1: ※ハローワーク以外への情報公開 | DO1: ※求人区分３ | DP1: ※保留理由 | DQ1: ※紹介期限年月日 | DR1: ※就業場所住所－１～３ | DS1: ※就業場所住所名称１ | DT1: ※就業場所住所名称２ | DU1: ※就業場所住所名称３ | DV1: ※就業場所住所名称４ | DW1: ※求人公開 | DX1: ※職種／派遣・請負の区分 | DY1: ※免許・資格名称１ | DZ1: ※免許・資格名称２ | EA1: ※免許・資格名称３ | EB1: ※求人充足状況区分 | EC1: ※求人充足数合計 | ED1: ※紹介保留処理／日付時刻 | EE1: 仕事の内容文字列 | EF1: 雇用形態区分 | EG1: 雇用形態（非正規労働者）文字列 | EH1: 正社員登用の有無 | EI1: 正社員登用の実績 | EJ1: 雇用期間区分 | EK1: 雇用期間開始年月日 | EL1: 雇用期間終了年月日 | EM1: 雇用期間年数 | EN1: 雇用期間月数 | EO1: 雇用期間契約更新有無 | EP1: 契約更新の可能性あり | EQ1: 契約更新の条件 | ER1: 試用期間有無 | ES1: 試用期間の期間 | ET1: 試用期間労働条件区分 | EU1: 試用期間労働条件文字列 | EV1: 就業場所／就業場所選択 | EW1: 就業場所／郵便番号 | EX1: 就業場所／住所 | EY1: 就業場所／もより駅文字列 | EZ1: 就業場所／事業所までの交通手段 | FA1: 就業場所／事業所までの所要時間 | FB1: 就業場所／在宅勤務 | FC1: 就業場所／就業場所に関する特記事項 | FD1: 従業員数／就業場所 | FE1: 従業員数／うち女性 | FF1: 従業員数／うちパート | FG1: 就業場所／受動喫煙対策の有無 | FH1: 就業場所／受動喫煙対策の内容 | FI1: 就業場所／受動喫煙対策に関する特記事項 | FJ1: マイカー通勤可否 | FK1: 駐車場の有無 | FL1: 転勤の可能性の有無 | FM1: 転勤範囲文字列 | FN1: 年齢制限 | FO1: 年齢制限あり／下限 | FP1: 年齢制限あり／上限 | FQ1: 年齢制限該当事由 | FR1: 年齢制限理由文字列 | FS1: 学歴要否 | FT1: 必要学歴／一般 | FU1: 学歴（履修科目）文字列 | FV1: 必要な経験等要否 | FW1: 必要な経験等文字列 | FX1: 必要なＰＣスキル詳細 | FY1: 必要な免許・資格不問 | FZ1: 普通自動車運転免許 | GA1: 普通自動車運転免許種別 | GB1: 免許・資格要否１ | GC1: 免許・資格要否２ | GD1: 免許・資格要否３ | GE1: 必要な免許・資格文字列 | GF1: いずれかの資格を所持で可 | GG1: 賃金形態区分 | GH1: 賃金形態その他文字列 | GI1: 賃金最低額 | GJ1: 賃金最高額 | GK1: 基本給又は時間額最低額 | GL1: 基本給又は時間額最高額 | GM1: 定額手当１／名 | GN1: 定額手当２／名 | GO1: 定額手当３／名 | GP1: 定額手当４／名 | GQ1: 定額手当１／下限 | GR1: 定額手当２／下限 | GS1: 定額手当３／下限 | GT1: 定額手当４／下限 | GU1: 定額手当１／上限 | GV1: 定額手当２／上限 | GW1: 定額手当３／上限 | GX1: 定額手当４／上限 | GY1: 固定残業代有無 | GZ1: 固定残業代／下限 | HA1: 固定残業代／上限 | HB1: 固定残業代に関する特記事項 | HC1: 支給額（ａ＋ｂ）下限 | HD1: 支給額（ａ＋ｂ）上限 | HE1: その他の手当等付記事項 | HF1: 月平均労働日数 | HG1: 通勤手当区分 | HH1: 通勤手当月額日額 | HI1: 通勤手当金額 | HJ1: 賃金締切日区分 | HK1: 賃金締切日／毎月 | HL1: 賃金締切日その他文字列 | HM1: 賃金支払日区分 | HN1: 賃金支払日／毎月／区分 | HO1: 賃金支払日／毎月 | HP1: 賃金支払日その他の支払日 | HQ1: 昇給有無 | HR1: 昇給（前年度実績）の有無 | HS1: 昇給／金額・昇給率 | HT1: 昇給／月額・時給 | HU1: 昇給額下限 | HV1: 昇給額上限 | HW1: 昇給率下限 | HX1: 昇給率上限 | HY1: 賞与有無 | HZ1: 賞与（前年度実績）の有無 | IA1: 賞与回数 | IB1: 賞与／月数・金額 | IC1: 賞与月数 | ID1: 賞与金額下限 | IE1: 賞与金額上限 | IF1: 就業方法区分 | IG1: 変形単位区分 | IH1: 就業時間１始業 | II1: 就業時間２始業 | IJ1: 就業時間３始業 | IK1: 就業時間１終業 | IL1: 就業時間２終業 | IM1: 就業時間３終業 | IN1: 就業時間（又は）始業 | IO1: 就業時間（又は）終業 | IP1: 就業時間（又は）時間 | IQ1: 就業時間（又は）／以上 | IR1: 就業時間（又は）／程度 | IS1: 就業時間に関する特記事項文字列 | IT1: 時間外／有無 | IU1: 時間外／月平均時間（時） | IV1: ３６協定における特別条項の有無 | IW1: 特別な事情・期間 | IX1: 休憩時間（分） | IY1: 週所定労働日数／入力種別 | IZ1: 週所定労働日数／下限 | JA1: 週所定労働日数／上限 | JB1: 週所定労働日数／以上程度以内 | JC1: 週の労働日数 | JD1: 労働日数について相談可 | JE1: 休日／月曜 | JF1: 休日／火曜 | JG1: 休日／水曜 | JH1: 休日／木曜 | JI1: 休日／金曜 | JJ1: 休日／土曜 | JK1: 休日／日曜 | JL1: 休日／祝日 | JM1: 休日／他 | JN1: 週休２日制区分（求人） | JO1: 休日・週休２日制その他の場合文字列 | JP1: 年次有給休暇日数 | JQ1: 年間休日数 | JR1: 加入保険等／事業所情報と条件 | JS1: 加入保険／雇用 | JT1: 加入保険／労災 | JU1: 加入保険／公災 | JV1: 加入保険／健康 | JW1: 加入保険／厚生 | JX1: 加入保険／財形 | JY1: 加入保険／その他 | JZ1: その他の加入保険等 | KA1: 企業年金／事業所情報と条件 | KB1: 企業年金／厚生年金基金 | KC1: 企業年金／確定拠出年金 | KD1: 企業年金／確定給付年金 | KE1: 企業年金／税制適格年金 | KF1: 退職金共済／事業所情報と条件 | KG1: 退職金共済 | KH1: 退職金制度／事業所情報と条件 | KI1: 退職金制度 | KJ1: 退職金制度／勤続年数不問 | KK1: 退職金制度／勤続年数１年未満 | KL1: 退職金勤続年数 | KM1: 定年制有無 | KN1: 定年制一律 | KO1: 定年年齢 | KP1: 再雇用制度／事業所情報と条件 | KQ1: 再雇用制度の有無 | KR1: 再雇用制度／上限年齢の有無 | KS1: 再雇用制度／上限年齢 | KT1: 勤務延長／事業所情報と条件 | KU1: 勤務延長の有無 | KV1: 勤務延長／上限年齢の有無 | KW1: 勤務延長／上限年齢 | KX1: 入居可能住宅／単身用あり | KY1: 入居可能住宅／世帯用あり | KZ1: 入居可能住宅／無 | LA1: 入居可能住宅に関する特記事項文字列 | LB1: 託児所あり | LC1: 託児所に関する特記事項文字列 | LD1: 採用人数 | LE1: 募集理由（任意） | LF1: その他の募集理由 | LG1: 選考方法／面接 | LH1: 選考方法／書類選考 | LI1: 選考方法／筆記試験 | LJ1: 選考方法／その他 | LK1: 面接予定回数（任意） | LL1: 結果通知タイミング／即決 | LM1: 結果通知タイミング／書類選考後 | LN1: 結果通知タイミング／面接選考後 | LO1: 結果通知タイミング／その他 | LP1: 書類選考結果通知／書類到着後 | LQ1: 面接選考結果通知／面接後 | LR1: 通知方法／求職者マイページに連絡 | LS1: 通知方法／郵送 | LT1: 通知方法／電話 | LU1: 通知方法／メール | LV1: 通知方法／その他 | LW1: 選考日時区分 | LX1: 選考日時その他文字列 | LY1: 選考場所区分 | LZ1: 選考場所／郵便番号 | MA1: 選考場所／住所 | MB1: 選考場所／最寄り駅 | MC1: 選考場所／交通手段 | MD1: 選考場所／所要時間 | ME1: 応募書類等／ハローワーク紹介状 | MF1: 応募書類等／履歴書 | MG1: 応募書類等／職務経歴書 | MH1: 応募書類等／ジョブ・カード | MI1: 応募書類等／その他 | MJ1: 応募書類等（その他）文字列 | MK1: 応募書類等／履歴書写真貼付 | ML1: 応募書類送付方法／郵送 | MM1: 応募書類送付方法／メール | MN1: その他の送付方法 | MO1: 郵送の送付場所 | MP1: その他の送付場所 | MQ1: 応募書類の返戻区分 | MR1: 選考に関する特記事項 | MS1: 選考担当者／氏名（漢字）文字列 | MT1: 選考担当者／氏名（カナ）文字列 | MU1: 選考担当者／課係名文字列 | MV1: 選考担当者／事業所登録と電話番号 | MW1: 選考担当者／電話番号 | MX1: 選考担当者／内線 | MY1: 選考担当者／事業所登録とＦＡＸ番号 | MZ1: 選考担当者／ＦＡＸ番号が電話番号に同じ | NA1: 選考担当者／ＦＡＸ番号 | NB1: 選考担当者／メールアドレス | NC1: ＵＩＪターン歓迎 | ND1: 外国人雇用実績の有無 | NE1: 求人に関する特記事項 | NF1: ※雇用形態区分 | NG1: ※正社員登用の有無 | NH1: ※雇用期間区分 | NI1: ※雇用期間開始終了 | NJ1: ※雇用期間年月数 | NK1: ※雇用期間契約更新有無 | NL1: ※試用期間有無 | NM1: ※試用期間労働条件区分 | NN1: ※就業場所／最寄り駅 | NO1: ※就業場所／在宅勤務 | NP1: ※従業員数／就業場所 | NQ1: ※従業員数／うち女性 | NR1: ※従業員数／うちパート | NS1: ※就業場所／受動喫煙対策 | NT1: ※マイカー通勤可否 | NU1: ※駐車場の有無 | NV1: ※転勤の可能性の有無 | NW1: ※年齢制限 | NX1: ※年齢制限該当事由 | NY1: ※学歴要否 | NZ1: ※必要学歴／一般 | OA1: ※学歴（履修科目）文字列 | OB1: ※必要な経験等要否 | OC1: ※必要な経験等文字列 | OD1: ※必要な免許・資格不問 | OE1: ※普通自動車運転免許 | OF1: ※普通自動車運転免許種別 | OG1: ※免許・資格要否１ | OH1: ※免許・資格要否２ | OI1: ※免許・資格要否３ | OJ1: ※必要な免許・資格文字列 | OK1: ※いずれかの資格を所持で可 | OL1: ※賃金形態区分 | OM1: ※賃金最低額 | ON1: ※基本給又は時間額最低額 | OO1: ※定額手当１ | OP1: ※定額手当２ | OQ1: ※定額手当３ | OR1: ※定額手当４ | OS1: ※固定残業代有無 | OT1: ※固定残業代 | OU1: ※支給額（ａ＋ｂ） | OV1: ※月平均労働日数 | OW1: ※通勤手当区分 | OX1: ※通勤手当額 | OY1: ※賃金締切日 | OZ1: ※賃金支払日 | PA1: ※昇給有無 | PB1: ※昇給（前年度実績）の有無 | PC1: ※昇給額 | PD1: ※昇給率 | PE1: ※賞与有無 | PF1: ※賞与（前年度実績）の有無 | PG1: ※賞与回数 | PH1: ※賞与月数 | PI1: ※賞与金額 | PJ1: ※就業方法区分 | PK1: ※就業時間１ | PL1: ※就業時間２ | PM1: ※就業時間３ | PN1: ※就業時間（又は） | PO1: ※時間外／有無 | PP1: ※時間外／月平均時間（時） | PQ1: ※３６協定における特別条項の有無 | PR1: ※休憩時間（分） | PS1: ※週の労働日数 | PT1: ※労働日数について相談可 | PU1: ※休日 | PV1: ※週休２日制区分（求人） | PW1: ※年次有給休暇日数 | PX1: ※年間休日数 | PY1: ※加入保険 | PZ1: ※企業年金 | QA1: ※退職金共済 | QB1: ※退職金制度 | QC1: ※定年年齢 | QD1: ※再雇用制度／上限年齢 | QE1: ※勤務延長／上限年齢 | QF1: ※入居可能住宅／単身用あり | QG1: ※入居可能住宅／世帯用あり | QH1: ※入居可能住宅／無 | QI1: ※託児所あり | QJ1: ※採用人数 | QK1: ※募集理由（任意） | QL1: ※選考方法 | QM1: ※面接予定回数（任意） | QN1: ※結果通知タイミング | QO1: ※書類選考結果通知／書類到着後 | QP1: ※書類選考結果通知／面接後 | QQ1: ※通知方法 | QR1: ※選考日時区分 | QS1: ※選考場所／最寄り駅 | QT1: ※応募書類等 | QU1: ※応募書類送付方法 | QV1: ※応募書類の返戻区分 | QW1: ※ＵＩＪターン歓迎 | QX1: ※外国人雇用実績の有無 | QY1: 管理選考情報／安定所番号１ | QZ1: 管理選考情報／イベント開催年月日１ | RA1: ※管理選考情報／イベント開催年月日１ | RB1: 管理選考情報／安定所番号２ | RC1: 管理選考情報／イベント開催年月日２ | RD1: ※管理選考情報／イベント開催年月日２ | RE1: 管理選考情報／安定所番号３ | RF1: 管理選考情報／イベント開催年月日３ | RG1: ※管理選考情報／イベント開催年月日３ | RH1: 管理選考情報／安定所番号４ | RI1: 管理選考情報／イベント開催年月日４ | RJ1: ※管理選考情報／イベント開催年月日４ | RK1: 管理選考情報／安定所番号５ | RL1: 管理選考情報／イベント開催年月日５ | RM1: ※管理選考情報／イベント開催年月日５ | RN1: 管理選考情報／安定所番号６ | RO1: 管理選考情報／イベント開催年月日６ | RP1: ※管理選考情報／イベント開催年月日６ | RQ1: 管理選考情報／安定所番号７ | RR1: 管理選考情報／イベント開催年月日７ | RS1: ※管理選考情報／イベント開催年月日７ | RT1: 管理選考情報／安定所番号８ | RU1: 管理選考情報／イベント開催年月日８ | RV1: ※管理選考情報／イベント開催年月日８ | RW1: 管理選考情報／安定所番号９ | RX1: 管理選考情報／イベント開催年月日９ | RY1: ※管理選考情報／イベント開催年月日９ | RZ1: 管理選考情報／安定所番号１０ | SA1: 管理選考情報／イベント開催年月日１０ | SB1: ※管理選考情報／イベント開催年月日１０ | SC1: ※紹介人数
A2: 28212- 1549861 | B2: 2821- 6745-1 | D2: 4 | E2: 2006 | G2: 1 | H2: ホワイトライン | I2: ホワイトライン | J2: 代表 | K2: 木谷 政則 | L2: 〒678-0215 | M2: 兵庫県赤穂市御崎１４２７ | N2: ＪＲ赤穂線 播州赤穂 | O2: 2 | P2: 10 | Q2: 090-9094-3881 | R2: ネット通販・営業事業。ヤフオクやメルカリ等を活用した衣類・アパレル雑貨の販売、盆栽のネット販売、および全国福利厚生共済会を活用した福利厚生の営業・導入サポート等の一連の業務。 | U2: 短時間勤務や自由な勤務時間が選べる柔軟な職場です。業務の基礎を習得した後は、自宅でのリモートワークも選べます。全国福利厚生共済会の充実した手当や優待制度が利用できます。 | V2: 0 | W2: 0 | X2: 2 | Y2: 2 | Z2: 2 | AA2: 0 | AB2: 0 | AC2: 0 | AD2: https://selectshop-whit-eline.jimdosite.com | AI2: 611 | AJ2: 28212 | AK2: 平成18年 | AM2: 1人 | AO2: ＪＲ赤穂線 播州赤穂 から 車10分 | AP2: なし | AQ2: なし | AR2: 該当者なし | AS2: 該当者なし | AT2: 該当者なし | AU2: なし | AV2: なし | AW2: なし | BB2: 通信販売・訪問販売小売業 | BL2: 28212 | BM2: 46356 | BN2: 1 | BO2: 0 | BP2: 2 | BQ2: 46295 | BS2: 0 | BT2: 1 | BU2: 1 | CA2: Z88 | CB2: Y19 | CC2: B60 | CG2: B10 | CI2: 28212 | CM2: 0 | CN2: 1 | CO2: 盆栽の手入れや庭木の手入れ | CP2: 064-05 | CS2: 3 | DC2: 3 | DD2: 0 | DH2: （パートタイム） | DJ2: 46295 | DM2: 事業所名等を含む求人情報を公開する | DN2: 地方自治体、民間人材ビジネス共に可 | DR2: 兵庫県赤穂市 | DS2: 兵庫県赤穂市 | DX2: 派遣・請負ではない | EB2: 未充足 | EC2: 0人 | EE2: 盆栽や庭木の管理・お手入れ全般をお任せします。_x000d_ _x000d_ 【具体的な業務内容】_x000d_ ・主に盆栽の手入れ_x000d_ その他_x000d_ ・盆栽や庭木への水やり_x000d_ ・敷地内の植木の剪定、枝切り、形整え_x000d_ ・お庭の草抜き、草むしり、清掃、ゴミまとめ_x000d_ ・その他、付随するお庭の軽作業_x000d_ _x000d_ ※盆栽の育成・手入れに関する知識や、ご趣味・実務での経験がある方を歓迎いたします。 変更範囲：変更なし | EF2: 5 | EH2: 0 | EJ2: 1 | ER2: 0 | EV2: 3 | EW2: 〒678-0216 | EX2: 兵庫県赤穂市正保橋町２－５ | EY2: ＪＲ赤穂線 播州赤穂 | EZ2: 2 | FA2: 10 | FB2: 0 | FD2: 1 | FE2: 0 | FF2: 0 | FG2: 2 | FI2: 屋外に喫煙場所設置 | FJ2: 1 | FK2: 1 | FL2: 0 | FN2: 1 | FS2: 3 | FV2: 2 | FW2: 盆栽の手入れ等の経験がある方 | FY2: 1 | GA2: 1 | GF2: 0 | GG2: 4 | GK2: 1200 | GL2: 1200 | GY2: 0 | HC2: 1200 | HD2: 1200 | HE2: 盆栽手入れの経験・能力に応じ別途手当支給 | HG2: 3 | HJ2: 2 | HM2: 1 | HN2: 2 | HO2: 1 | HQ2: 0 | HY2: 0 | IN2: 900 | IO2: 1700 | IP2: 3 | IQ2: 0 | IR2: 1 | IS2: ◎就業時間の相談可能です_x000d_ 週１日～、１時間～もＯＫ！！ | IT2: 0 | IV2: 0 | IX2: 10 | IY2: 1 | IZ2: 1 | JA2: 3 | JD2: 1 | JE2: 0 | JF2: 0 | JG2: 0 | JH2: 0 | JI2: 0 | JJ2: 0 | JK2: 0 | JL2: 0 | JM2: 1 | JN2: 1 | JR2: 0 | JS2: 0 | JT2: 1 | JU2: 0 | JV2: 0 | JW2: 0 | JX2: 0 | JY2: 0 | KB2: 0 | KC2: 0 | KD2: 0 | KF2: 1 | KG2: 0 | KH2: 1 | KI2: 0 | KJ2: 0 | KK2: 0 | KM2: 0 | KP2: 1 | KQ2: 0 | KT2: 1 | KU2: 0 | KX2: 0 | KY2: 0 | LB2: 0 | LD2: 1 | LG2: 1 | LH2: 0 | LI2: 0 | LJ2: 0 | LK2: 1 | LL2: 0 | LM2: 0 | LN2: 1 | LO2: 0 | LQ2: 7 | LR2: 0 | LS2: 1 | LT2: 1 | LU2: 1 | LV2: 0 | LW2: 1 | LY2: 3 | LZ2: 〒678-0239 | MA2: 兵庫県赤穂市加里屋２１８８番地１８（花岳寺通り）_x000d_ 赤穂市立加里屋まちづくり会館 | MB2: 播州赤穂駅 | MC2: 2 | MD2: 5 | ME2: 1 | MF2: 1 | MG2: 0 | MH2: 0 | MI2: 0 | MK2: 1 | ML2: 0 | MM2: 0 | MN2: 面接時に持参 | MQ2: 1 | MU2: 代表 ※ＨＷ以外の職業紹介事業者_x000d_ からの営業はお断り | MV2: 0 | MW2: 090-5129-8625 | MY2: 1 | MZ2: 0 | NC2: 0 | NE2: 当社では、スタッフの皆様が安心して長く働ける環境づくりに力を_x000d_ 入れています。_x000d_ _x000d_ ◆圧倒的な働きやすさ週１日・１日１時間から、ご自身の生活スタ_x000d_ イルに合わせて勤務時間を自由に選択できます。「家事の合間に」_x000d_ 「副業として」など、無理のない働き方が可能です。_x000d_ _x000d_ ◆充実の福利厚生「全国福利厚生共済会」に加入しており、大企業_x000d_ 並みの充実した福利厚生（各種お祝い金、レジャー、グルメの割引_x000d_ 、ライフサポートなど）をパートスタッフの方も利用できます。_x000d_ _x000d_ 「プライベートを大切にしながら、安心して働きたい」そんなあな_x000d_ たを応援します。まずはお気軽にご応募・ご相談ください。_x000d_ _x000d_ _x000d_ ＊加入保険、年次有給休暇は、労働条件により法定通り加入、付与_x000d_ _x000d_ ◎副業可！ | NF2: パート労働者 | NG2: なし | NH2: 雇用期間の定めなし | NL2: なし | NN2: ＪＲ赤穂線 播州赤穂 から 車10分 | NP2: 3人 | NQ2: 0人 | NR2: 0人 | NS2: その他 | NT2: 可 | NU2: 駐車場 あり | NV2: なし | NW2: 不問 | NX2: 不問 | NY2: 不問 | OB2: あれば尚可 | OC2: 盆栽の手入れ等の経験がある方 | OD2: 不問 | OF2: （AT限定可） | OL2: 時給 | ON2: 1,200円～1,200円 | OS2: なし | OU2: =IF(OM2<>"",OM2,ON2) -> 1,200円～1,200円 | OW2: なし | OY2: 月末 | OZ2: 毎月1日 翌月払い | PA2: 昇給なし | PE2: 賞与なし | PN2: 又は9時00分～17時00分の間の3時間程度 | PO2: なし | PQ2: なし | PR2: 10分 | PS2: 週1日～週3日 | PT2: 労働日数について相談可 | PU2: 他 | PV2: 毎 週 | PY2: 労災 | QB2: なし | QC2: なし | QD2: なし | QE2: なし | QJ2: 1人 | QL2: 面接 | QM2: 1回 | QN2: 面接選考後 | QP2: 7日以内 | QQ2: 郵送・電話・Ｅメール | QR2: 随時 | QS2: 播州赤穂駅 から 車5分 | QT2: ハローワーク紹介状・履歴書（写真貼付） | QV2: 選考後は返却 | QX2: 外国人雇用実績 | SC2: 0人
A3: 40010-58247161 | B3: 4001-639074-0 | C3: 9290001088626 | D3: 5 | E3: 2020 | F3: 800 | G3: 47 | H3: 株式会社 シルバーサポートジャパン | I3: カブシキガイシャ シルバーサポートジャパン | J3: 代表取締役社長 | K3: 高木 元 | L3: 〒810-0052 | M3: 福岡県福岡市中央区大濠１－７－３４ | N3: 地下鉄大濠公園 | Q3: 092-406-0018 | R3: 個人宅、病院、デイサービス、老人保健施設などに訪問し、理美容サービスを提供する社会貢献度の高い仕事です。 | U3: お体のご都合や色々なご事情で理美容院などに行く事が出来ない方のご自宅や福祉施設全般に伺い、出張理美容サービスを行うお仕事です。幅広い年齢層の方が活躍されています。 | V3: 0 | W3: 1 | X3: 1 | Y3: 2 | Z3: 2 | AA3: 0 | AB3: 1 | AC3: 1 | AI3: 789 | AJ3: 40133 | AK3: 令和2年 | AL3: 800万円 | AM3: 47人 | AO3: 地下鉄大濠公園 | AP3: なし | AQ3: あり | AR3: あり | AS3: 該当者なし | AT3: 該当者なし | AU3: なし | AV3: あり | AW3: あり | BB3: その他の洗濯・理容・美容・浴場業 | BL3: 40010 | BM3: 46356 | BN3: 1 | BO3: 0 | BP3: 1 | BQ3: 46295 | BS3: 0 | BT3: 1 | BU3: 1 | BY3: Z54 | BZ3: B60 | CA3: B65 | CI3: 28481 | CJ3: 28501 | CK3: 28585 | CL3: 28586 | CM3: 0 | CN3: 1 | CO3: 福祉理容師 福祉美容師（正）／赤穂郡上郡町、佐用町、他 | CP3: 053-01 | CQ3: 053-02 | CS3: 3 | CT3: 4301 | CU3: 4303 | DC3: 3 | DD3: 0 | DH3: （フルタイム） | DJ3: 46295 | DM3: 事業所名等を含む求人情報を公開する | DN3: 地方自治体、民間人材ビジネス共に可 | DR3: 兵庫県赤穂郡上郡町 | DS3: 兵庫県赤穂郡上郡町 | DT3: 兵庫県佐用郡佐用町 | DU3: 兵庫県美方郡香美町 | DV3: 兵庫県美方郡新温泉町 | DX3: 派遣・請負ではない | DY3: 理容師 | DZ3: 美容師 | EB3: 未充足 | EC3: 0人 | EE3: 個人宅・病院・デイサービスセンター・老人保健施設・福祉施設などに訪問し、理美容サービスを提供する社会貢献度の高いお仕事です。_x000d_ _x000d_ _x000d_ 変更範囲：変更なし | EF3: 1 | EJ3: 1 | ER3: 1 | ES3: ３ヶ月間（延長あり） | ET3: 1 | EV3: 3 | EW3: 〒678-1200 | EX3: 兵庫県赤穂郡上郡町、佐用町、香美町、新温泉町 | FB3: 0 | FC3: 直行直帰のお仕事になります。 | FD3: 3 | FE3: 1 | FF3: 1 | FG3: 1 | FH3: 1 | FJ3: 1 | FK3: 0 | FL3: 0 | FN3: 1 | FS3: 3 | FV3: 3 | FY3: 0 | FZ3: 1 | GA3: 1 | GB3: 1 | GC3: 1 | GF3: 1 | GG3: 1 | GK3: 250000 | GL3: 500000 | GY3: 0 | HC3: 250000 | HD3: 500000 | HE3: 交通費全額支給（ガソリン代現金支給） | HF3: 20.4 | HG3: 4 | HJ3: 2 | HM3: 1 | HN3: 2 | HO3: 20 | HQ3: 1 | HR3: 1 | HS3: 1 | HT3: 1 | HU3: 30000 | HV3: 320000 | HY3: 1 | HZ3: 1 | IA3: 2 | IB3: 1 | IC3: 2 | IH3: 900 | IK3: 1800 | IQ3: 0 | IR3: 0 | IS3: 直行、直帰のお仕事になります。 | IT3: 0 | IV3: 0 | IX3: 60 | JD3: 0 | JE3: 0 | JF3: 0 | JG3: 0 | JH3: 0 | JI3: 0 | JJ3: 1 | JK3: 1 | JL3: 1 | JM3: 0 | JN3: 1 | JP3: 10 | JQ3: 120 | JR3: 1 | JS3: 1 | JT3: 1 | JU3: 0 | JV3: 1 | JW3: 1 | JX3: 0 | JY3: 0 | KB3: 0 | KC3: 0 | KD3: 0 | KF3: 1 | KG3: 0 | KH3: 1 | KI3: 0 | KJ3: 0 | KK3: 0 | KM3: 0 | KP3: 1 | KQ3: 0 | KT3: 1 | KU3: 0 | KX3: 0 | KY3: 0 | LB3: 0 | LD3: 2 | LE3: 2 | LG3: 1 | LH3: 0 | LI3: 0 | LJ3: 1 | LK3: 1 | LL3: 0 | LM3: 0 | LN3: 1 | LO3: 0 | LQ3: 7 | LR3: 0 | LS3: 0 | LT3: 1 | LU3: 0 | LV3: 0 | LW3: 1 | LY3: 3 | LZ3: 〒678-1200 | MA3: 兵庫県赤穂郡上郡町、佐用町、香美町、新温泉町近隣地域にて面接 | ME3: 1 | MF3: 1 | MG3: 0 | MH3: 0 | MI3: 0 | MK3: 1 | ML3: 0 | MM3: 0 | MN3: 面接時持参 | MQ3: 2 | MR3: 技術選考がある場合がある | MU3: 人事採用係 | MV3: 0 | MW3: 0942-27-8778 | MY3: 1 | MZ3: 0 | NA3: 092-791-6323 | NC3: 0 | NE3: ・兵庫県全域でのお仕事になります。基本的に現地に赴きサービスをご提供するお仕事になります。_x000d_ お問合せなどがありましたらご連絡をいただけたら幸いです。_x000d_ 「生涯現役支援求人」 | NF3: 正社員 | NH3: 雇用期間の定めなし | NL3: あり | NM3: 変更なし | NP3: 3人 | NQ3: 1人 | NR3: 1人 | NS3: あり（屋内禁煙） | NT3: 可 | NU3: 駐車場 なし | NV3: なし | NW3: 不問 | NX3: 不問 | NY3: 不問 | OB3: 不問 | OE3: 普通自動車運転免許 必須 | OF3: （AT限定可） | OG3: 必須 | OH3: 必須 | OK3: いずれかの免許・資格所持で可 | OL3: 月給 | ON3: 250,000円～500,000円 | OS3: なし | OU3: =IF(OM3<>"",OM3,ON3) -> 250,000円～500,000円 | OV3: 20.4日 | OW3: 実費支給（上限なし） | OY3: 月末 | OZ3: 毎月20日 翌月払い | PA3: 昇給あり | PB3: 前年度実績 あり | PC3: 30,000円～320,000円 | PE3: 賞与あり | PF3: 前年度実績 あり | PG3: 年2回（前年度実績） | PH3: 2.00ヶ月分 | PK3: (1)9時00分～18時00分 | PO3: なし | PQ3: なし | PR3: 60分 | PU3: 土日祝 | PV3: 毎 週 | PW3: 10日 | PX3: 120日 | PY3: 雇用・労災・健康・厚生 | QB3: なし | QC3: なし | QD3: なし | QE3: なし | QJ3: 2人 | QK3: 増員 | QL3: 面接・その他 | QM3: 1回 | QN3: 面接選考後 | QP3: 7日以内 | QQ3: 電話 | QR3: 随時 | QT3: ハローワーク紹介状・履歴書（写真貼付） | QV3: 求人者の責任にて廃棄 | QX3: 外国人雇用実績 | SC3: 0人
A4: 28211- 1546861 | B4: 2821- 2719-9 | C4: 6000020284815 | G4: 315 | H4: 上郡町役場 | I4: カミゴオリチヨウヤクバ | J4: 町長 | K4: 梅田 修作 | L4: 〒678-1233 | M4: 兵庫県赤穂郡上郡町大持２７８ | N4: ＪＲ山陽本線 上郡 | O4: 2 | P4: 8 | Q4: 0791-52-1111 | R4: 地方行政 | U4: 地方自治体 | V4: 0 | W4: 0 | X4: 1 | Y4: 1 | Z4: 0 | AA4: 0 | AB4: 1 | AC4: 1 | AD4: http://www.town.kamigori.hyogo.jp | AI4: 982 | AJ4: 28481 | AM4: 315人 | AO4: ＪＲ山陽本線 上郡 から 車8分 | AP4: なし | AQ4: なし | AR4: あり | AS4: あり | AT4: なし | AU4: なし | AV4: あり | AW4: あり | BB4: 市町村の機関 | BE4: 〒678-1233 | BF4: 〒678-1233 | BG4: 兵庫県赤穂郡上郡町大持２７８ | BH4: 兵庫県赤穂郡上郡町大持２７８ | BI4: ＪＲ山陽本線 上郡 | BJ4: ＪＲ山陽本線 上郡 | BL4: 28211 | BM4: 46356 | BN4: 1 | BO4: 0 | BP4: 2 | BQ4: 46294 | BS4: 0 | BT4: 1 | BU4: 2 | CD4: B10 | CE4: Y60 | CF4: Y61 | CI4: 28481 | CM4: 0 | CN4: 1 | CO4: （パ）事務補助／上郡町役場／育休代替職員 | CP4: 035-99 | CQ4: 034-01 | CS4: 3 | CW4: 2821 | CX4: 2821- 2719-9 | CY4: 0 | CZ4: 2821 | DA4: 2821- 2719-9 | DB4: 0 | DC4: 3 | DD4: 0 | DH4: （パートタイム） | DJ4: 46294 | DM4: 事業所名等を含む求人情報を公開する | DN4: 地方自治体のみ可 | DR4: 兵庫県赤穂郡上郡町 | DS4: 兵庫県赤穂郡上郡町 | DX4: 派遣・請負ではない | EB4: 未充足 | EC4: 0人 | EE4: 上郡町役場「国保介護支援課」（育休代替職員）_x000d_ 町民のための行政サービス（介護保険事業に関する業務）事務・窓口業務・電話対応・書類整理など_x000d_ 令和８年１０月１日～令和９年２月２６日まで（更新なし） _x000d_ _x000d_ _x000d_ 【変更範囲：行政の定める業務】_x000d_ | EF4: 5 | EH4: 0 | EJ4: 2 | EK4: 46296 | EL4: 46444 | EO4: 0 | ER4: 1 | ES4: １か月 | ET4: 1 | EV4: 1 | EW4: 〒678-1233 | EX4: 兵庫県赤穂郡上郡町大持２７８ | EY4: ＪＲ山陽本線 上郡 | EZ4: 2 | FA4: 8 | FB4: 0 | FD4: 175 | FE4: 80 | FF4: 50 | FG4: 1 | FH4: 1 | FJ4: 1 | FK4: 1 | FL4: 0 | FN4: 1 | FS4: 3 | FV4: 3 | FX4: Ｗｏｒｄ、Ｅｘｃｅｌのできる方 | FY4: 1 | GA4: 1 | GF4: 0 | GG4: 4 | GK4: 1203 | GL4: 1223 | GY4: 0 | HC4: 1203 | HD4: 1223 | HG4: 1 | HH4: 1 | HI4: 38700 | HJ4: 2 | HM4: 1 | HN4: 1 | HO4: 21 | HQ4: 1 | HR4: 0 | HY4: 1 | HZ4: 1 | IA4: 1 | IB4: 1 | IC4: 2.3 | IH4: 900 | IK4: 1700 | IQ4: 0 | IR4: 0 | IT4: 0 | IV4: 0 | IX4: 60 | IY4: 2 | JB4: 2 | JC4: 5 | JD4: 0 | JE4: 0 | JF4: 0 | JG4: 0 | JH4: 0 | JI4: 0 | JJ4: 1 | JK4: 1 | JL4: 1 | JM4: 1 | JN4: 1 | JO4: 年末年始 １２月２９日～１月３日 | JR4: 0 | JS4: 1 | JT4: 0 | JU4: 1 | JV4: 1 | JW4: 1 | JX4: 0 | JY4: 0 | KB4: 0 | KC4: 0 | KD4: 0 | KF4: 0 | KG4: 0 | KH4: 0 | KI4: 0 | KJ4: 0 | KK4: 0 | KM4: 0 | KP4: 0 | KQ4: 0 | KT4: 0 | KU4: 0 | KX4: 0 | KY4: 0 | KZ4: 1 | LB4: 0 | LD4: 1 | LE4: 4 | LF4: 育休代替職員 | LG4: 1 | LH4: 0 | LI4: 0 | LJ4: 0 | LK4: 1 | LL4: 0 | LM4: 0 | LN4: 1 | LO4: 0 | LQ4: 7 | LR4: 0 | LS4: 0 | LT4: 1 | LU4: 0 | LV4: 0 | LW4: 1 | LY4: 1 | LZ4: 〒678-1233 | MA4: 兵庫県赤穂郡上郡町大持２７８ | MB4: ＪＲ山陽本線 上郡 | MC4: 2 | MD4: 8 | ME4: 1 | MF4: 1 | MG4: 0 | MH4: 0 | MI4: 1 | MJ4: 郵送 | MK4: 1 | ML4: 1 | MM4: 0 | MO4: 1 | MQ4: 2 | MS4: 国保介護支援課 | MU4: 求人掲載に関する営業電話はお断り！ | MV4: 0 | MW4: 0791-52-1152 | MY4: 0 | MZ4: 0 | NC4: 0 | NE4: ・勤務にあたっては、地方公務員法に基づき服務に関する義務等を_x000d_ 負います。_x000d_ _x000d_ ・賞与月額は条例、規則の定めるところにより在職期間に応じた月_x000d_ 数分を支給します。_x000d_ _x000d_ ・通勤手当は、月額３８，７００円を上限として通勤経路に応じた_x000d_ 金額を支給します。_x000d_ _x000d_ ・具体的な業務内容については、協議により決定します。_x000d_ _x000d_ ・加入保険、年次有給休暇など条例、規則の定めるところによる_x000d_ _x000d_ ・事前に「ハローワーク紹介状」「履歴書（写真貼付）」を_x000d_ 郵送してください。_x000d_ 後日、面接日をご案内します。 | NF4: パート労働者 | NG4: なし | NH4: 雇用期間の定めあり | NI4: 令和8年10月1日～令和9年2月26日 | NK4: 契約更新の可能性なし | NL4: あり | NM4: 変更なし | NN4: ＪＲ山陽本線 上郡 から 車8分 | NP4: 175人 | NQ4: 80人 | NR4: 50人 | NS4: あり（屋内禁煙） | NT4: 可 | NU4: 駐車場 あり | NV4: なし | NW4: 不問 | NX4: 不問 | NY4: 不問 | OB4: 不問 | OD4: 不問 | OF4: （AT限定可） | OL4: 時給 | ON4: 1,203円～1,223円 | OS4: なし | OU4: =IF(OM4<>"",OM4,ON4) -> 1,203円～1,223円 | OW4: 実費支給（上限あり） | OX4: 月額 38,700円まで | OY4: 月末 | OZ4: 毎月21日 当月払い | PA4: 昇給あり | PB4: 前年度実績 なし | PE4: 賞与あり | PF4: 前年度実績 あり | PG4: 年1回（前年度実績） | PH4: 2.30ヶ月分 | PK4: (1)9時00分～17時00分 | PO4: なし | PQ4: なし | PR4: 60分 | PS4: 週5日程度 | PU4: 土日祝他 | PV4: 毎 週 | PY4: 雇用・公災・健康・厚生 | QB4: なし | QC4: なし | QD4: なし | QE4: なし | QH4: なし | QJ4: 1人 | QK4: その他 | QL4: 面接 | QM4: 1回 | QN4: 面接選考後 | QP4: 7日以内 | QQ4: 電話 | QR4: 随時 | QS4: ＪＲ山陽本線 上郡 から 車8分 | QT4: ハローワーク紹介状・履歴書（写真貼付）・その他 | QU4: 郵送 | QV4: 求人者の責任にて廃棄 | QX4: 外国人雇用実績 | SC4: 0人
A5: 28211- 1547961 | B5: 2821- 4906-5 | C5: 6140003009655 | D5: 4 | E5: 2014 | F5: 300 | G5: 41 | H5: 合同会社 アズ | I5: ゴウドウガイシャ アズ | J5: 代表社員 | K5: 藤田 明典 | L5: 〒678-0031 | M5: 兵庫県相生市旭３丁目１１－４ ウイング相生壱番館１Ｆ | N5: ＪＲ相生 | O5: 1 | P5: 17 | Q5: 0791-23-4799 | R5: 障害者就労支援施設にて障害者作業員へのサポート、自立支援のお手伝いを行っています。 | U5: 個々の個性がいかせるような形の事業所を目指しています。_x000d_ | V5: 0 | W5: 0 | X5: 0 | Y5: 0 | Z5: 0 | AA5: 0 | AB5: 1 | AC5: 1 | AI5: 855 | AJ5: 28208 | AK5: 平成26年 | AL5: 300万円 | AM5: 41人 | AO5: ＪＲ相生 から 徒歩17分 | AP5: なし | AQ5: なし | AR5: なし | AS5: なし | AT5: なし | AU5: なし | AV5: あり | AW5: あり | BB5: 障害者福祉事業 | BE5: 〒678-0031 | BF5: 〒678-0031 | BG5: 兵庫県相生市旭３丁目１１－４ ウイング相生壱番館１Ｆ | BH5: 兵庫県相生市旭３丁目１１－４ ウイング相生壱番館１Ｆ | BI5: ＪＲ相生 | BJ5: ＪＲ相生 | BL5: 28211 | BM5: 46356 | BN5: 1 | BO5: 0 | BP5: 2 | BQ5: 46294 | BS5: 0 | BT5: 1 | BU5: 2 | CB5: Y19 | CC5: B10 | CD5: Y60 | CE5: B60 | CI5: 28208 | CM5: 0 | CN5: 1 | CO5: （パ）障害者就労指導員（Ｗワーク可能） | CP5: 049-04 | CS5: 3 | CW5: 2821 | CX5: 2821- 4906-5 | CY5: 0 | CZ5: 2821 | DA5: 2821- 4906-5 | DB5: 0 | DC5: 3 | DD5: 0 | DH5: （パートタイム） | DJ5: 46294 | DM5: 事業所名等を含む求人情報を公開する | DN5: 地方自治体のみ可 | DR5: 兵庫県相生市 | DS5: 兵庫県相生市 | DX5: 派遣・請負ではない | EB5: 未充足 | EC5: 0人 | EE5: 【障害者就労指導員】 ＊障害者就労支援事業にて障害者作業員へのサポート、自立支援のお手伝いをお願いします。作業同行あり。細かな指導、サポート を行います。_x000d_ ＊社有車（ワゴン車 ＡＴ車）を使用します。主に相生市内です。_x000d_ ＊Ｗワーク可能です。（許可申請、必要）_x000d_ _x000d_ 【変更範囲：変更なし】 | EF5: 5 | EH5: 1 | EI5: １人 | EJ5: 1 | ER5: 1 | ES5: １ヶ月 | ET5: 1 | EV5: 1 | EW5: 〒678-0031 | EX5: 兵庫県相生市旭３丁目１１－４ ウイング相生壱番館１Ｆ | EY5: ＪＲ相生 | EZ5: 1 | FA5: 17 | FB5: 0 | FD5: 40 | FE5: 13 | FF5: 36 | FG5: 1 | FH5: 1 | FJ5: 1 | FK5: 1 | FL5: 0 | FN5: 2 | FP5: 64 | FQ5: 21 | FR5: 定年が６５歳の為 | FS5: 3 | FV5: 3 | FY5: 0 | FZ5: 1 | GA5: 1 | GF5: 0 | GG5: 4 | GK5: 1172 | GL5: 1260 | GY5: 0 | HC5: 1172 | HD5: 1260 | HG5: 1 | HH5: 1 | HI5: 7000 | HJ5: 2 | HM5: 1 | HN5: 2 | HO5: 21 | HQ5: 1 | HR5: 1 | HS5: 1 | HT5: 2 | HU5: 100 | HV5: 100 | HY5: 1 | HZ5: 1 | IA5: 1 | IB5: 2 | ID5: 35000 | IE5: 40000 | IH5: 900 | IK5: 1430 | IQ5: 0 | IR5: 0 | IT5: 0 | IV5: 0 | IX5: 75 | IY5: 1 | IZ5: 3 | JA5: 6 | JD5: 1 | JE5: 0 | JF5: 0 | JG5: 0 | JH5: 0 | JI5: 0 | JJ5: 0 | JK5: 1 | JL5: 0 | JM5: 1 | JN5: 3 | JO5: 会社カレンダーによる。 土曜日・祝日は不定期（月８日の休日）年末年始 | JR5: 0 | JS5: 0 | JT5: 1 | JU5: 0 | JV5: 0 | JW5: 0 | JX5: 0 | JY5: 0 | KA5: 1 | KB5: 0 | KC5: 0 | KD5: 0 | KF5: 1 | KG5: 0 | KH5: 1 | KI5: 0 | KJ5: 0 | KK5: 0 | KM5: 1 | KN5: 1 | KO5: 65 | KP5: 1 | KQ5: 1 | KR5: 1 | KS5: 70 | KT5: 1 | KU5: 0 | KX5: 0 | KY5: 0 | KZ5: 1 | LB5: 0 | LD5: 1 | LE5: 2 | LG5: 1 | LH5: 0 | LI5: 0 | LJ5: 0 | LK5: 1 | LL5: 0 | LM5: 0 | LN5: 1 | LO5: 0 | LQ5: 7 | LR5: 0 | LS5: 1 | LT5: 1 | LU5: 0 | LV5: 0 | LW5: 1 | LY5: 1 | LZ5: 〒678-0031 | MA5: 兵庫県相生市旭３丁目１１－４ ウイング相生壱番館１Ｆ | MB5: ＪＲ相生 | MC5: 1 | MD5: 17 | ME5: 1 | MF5: 1 | MG5: 0 | MH5: 0 | MI5: 0 | MK5: 1 | ML5: 0 | MM5: 0 | MN5: 面接時に持参 | MQ5: 1 | MS5: 採用担当者 | MU5: 求人掲載に関する営業電話はお断り | MV5: 1 | MW5: 0791-23-4799 | MY5: 1 | MZ5: 0 | NA5: 0791-23-4818 | NC5: 0 | NE5: ＊加入保険・有給休暇は法定どおり。_x000d_ _x000d_ ＊労働日数、相談可能です。_x000d_ _x000d_ ＊駐車場有り。駐車料金無料。_x000d_ _x000d_ ＊業務経験がない方も歓迎します。_x000d_ _x000d_ ＊丁寧に指導を行いますので、安心してご応募ください。_x000d_ _x000d_ ＊定年は６５歳です。６５歳以上の雇用については１年毎の_x000d_ 契約更新になります。賃金については変更になります。_x000d_ _x000d_ ＊経験等不問です。障害者就労事業所に興味がある方は見学も_x000d_ していただけますのでぜひ来所下さい。_x000d_ 入社後は、仕事内容の説明からＯＪＴ（職場で教育や研修を行う こと）まで担当者が丁寧におこないます。_x000d_ _x000d_ | NF5: パート労働者 | NG5: あり | NH5: 雇用期間の定めなし | NL5: あり | NM5: 変更なし | NN5: ＪＲ相生 から 徒歩17分 | NP5: 40人 | NQ5: 13人 | NR5: 36人 | NS5: あり（屋内禁煙） | NT5: 可 | NU5: 駐車場 あり | NV5: なし | NW5: 64歳以下 | NX5: 定年を上限 | NY5: 不問 | OB5: 不問 | OE5: 普通自動車運転免許 必須 | OF5: （AT限定可） | OL5: 時給 | ON5: 1,172円～1,260円 | OS5: なし | OU5: =IF(OM5<>"",OM5,ON5) -> 1,172円～1,260円 | OW5: 実費支給（上限あり） | OX5: 月額 7,000円まで | OY5: 月末 | OZ5: 毎月21日 翌月払い | PA5: 昇給あり | PB5: 前年度実績 あり | PC5: 100円～100円 | PE5: 賞与あり | PF5: 前年度実績 あり | PG5: 年1回（前年度実績） | PI5: 35,000円～40,000円 | PK5: (1)9時00分～14時30分 | PO5: なし | PQ5: なし | PR5: 75分 | PS5: 週3日～週6日 | PT5: 労働日数について相談可 | PU5: 日他 | PV5: その他 | PY5: 労災 | QB5: なし | QC5: あり 一律 65歳 | QD5: あり 上限 70歳まで | QE5: なし | QH5: なし | QJ5: 1人 | QK5: 増員 | QL5: 面接 | QM5: 1回 | QN5: 面接選考後 | QP5: 7日以内 | QQ5: 郵送・電話 | QR5: 随時 | QS5: ＪＲ相生 から 徒歩17分 | QT5: ハローワーク紹介状・履歴書（写真貼付） | QV5: 選考後は返却 | QX5: 外国人雇用実績 | SC5: 0人
A6: 28211- 1548161 | B6: 2821-911056-3 | C6: 2140005007586 | D6: 4 | E6: 2000 | F6: 5000 | G6: 320 | H6: 医療法人社団 豊寿会 介護老人保健施設 高嶺の郷 | I6: イリョウホウジンシャダン ホウジュカイ カイゴロウジンホケンシセツ タカミネノサト | J6: 理事長 | K6: 菅原 暁 | L6: 〒678-1241 | M6: 兵庫県赤穂郡上郡町山野里２３０５－１ | N6: ＪＲ上郡 | O6: 1 | P6: 10 | Q6: 0791-57-3250 | R6: 介護老人保健施設 | U6: 医療法人豊寿会の一つで上郡町の中心部、山野里に位置し、都市型の利便性と静けさが調和した施設です。 | V6: 0 | W6: 0 | X6: 1 | Y6: 1 | Z6: 2 | AA6: 0 | AB6: 1 | AC6: 1 | AD6: https://youandi.takaminefukushikai.com/ | AI6: 854 | AJ6: 28481 | AK6: 平成12年 | AL6: 5,000万円 | AM6: 320人 | AO6: ＪＲ上郡 から 徒歩10分 | AP6: なし | AQ6: なし | AR6: あり | AS6: あり | AT6: 該当者なし | AU6: なし | AV6: あり | AW6: あり | BB6: 老人福祉・介護事業 | BE6: 〒678-1241 | BF6: 〒678-1241 | BG6: 兵庫県赤穂郡上郡町山野里２３０５－１ | BH6: 兵庫県赤穂郡上郡町山野里２３０５－１ | BI6: ＪＲ上郡 | BJ6: ＪＲ上郡 | BK6: （静） | BL6: 28211 | BM6: 46356 | BN6: 1 | BO6: 0 | BP6: 2 | BQ6: 46294 | BS6: 0 | BT6: 1 | BU6: 2 | CB6: Z88 | CC6: B10 | CD6: Z54 | CE6: B60 | CF6: Y60 | CG6: Y61 | CI6: 28481 | CM6: 0 | CN6: 1 | CO6: （パ）調理員／上郡町／未経験者歓迎◎丁寧にサポートします | CP6: 055-07 | CQ6: 099-03 | CR6: 055-08 | CS6: 3 | CW6: 2821 | CX6: 2821-911056-3 | CY6: 0 | CZ6: 2821 | DA6: 2821-911056-3 | DB6: 0 | DC6: 3 | DD6: 0 | DH6: （パートタイム） | DJ6: 46294 | DM6: 事業所名等を含む求人情報を公開する | DN6: 地方自治体のみ可 | DR6: 兵庫県赤穂郡上郡町 | DS6: 兵庫県赤穂郡上郡町 | DX6: 派遣・請負ではない | EB6: 未充足 | EC6: 0人 | EE6: ◆介護老人保健施設、入所者・デイサービス利用者さまへの厨房業務全般。（約１８０食）_x000d_ ◆１食材の準備 ２下処理 ３調理補助 ４盛付 ５洗浄_x000d_ （１項目から覚えていただきます。）_x000d_ ◆上記、５項目の仕事について、１項目でもできる方は、相談に応じます。_x000d_ ◆経験のない方でも丁寧にサポートします。_x000d_ _x000d_ 【変更範囲：変更なし】 | EF6: 5 | EH6: 0 | EJ6: 1 | ER6: 1 | ES6: ３ヶ月 | ET6: 1 | EV6: 1 | EW6: 〒678-1241 | EX6: 兵庫県赤穂郡上郡町山野里２３０５－１ | EY6: ＪＲ上郡 | EZ6: 1 | FA6: 10 | FB6: 0 | FD6: 110 | FE6: 73 | FF6: 48 | FG6: 1 | FH6: 1 | FI6: 屋内全面禁煙 屋外に喫煙所あり | FJ6: 1 | FK6: 1 | FL6: 0 | FN6: 1 | FS6: 3 | FV6: 3 | FY6: 1 | GA6: 1 | GF6: 0 | GG6: 4 | GK6: 1175 | GL6: 1180 | GY6: 0 | HC6: 1175 | HD6: 1180 | HE6: 早出手当（朝６時～） ２００円／回 | HG6: 1 | HH6: 1 | HI6: 20000 | HJ6: 1 | HK6: 15 | HM6: 1 | HN6: 1 | HO6: 28 | HQ6: 1 | HR6: 1 | HS6: 1 | HT6: 2 | HU6: 15 | HV6: 30 | HY6: 0 | IF6: 2 | IH6: 630 | II6: 900 | IJ6: 1300 | IK6: 930 | IL6: 1300 | IM6: 1630 | IN6: 600 | IO6: 1900 | IP6: 4 | IQ6: 0 | IR6: 1 | IS6: 応相談 | IT6: 0 | IV6: 0 | IX6: 0 | IY6: 2 | JB6: 2 | JC6: 3 | JD6: 1 | JE6: 0 | JF6: 0 | JG6: 0 | JH6: 0 | JI6: 0 | JJ6: 0 | JK6: 0 | JL6: 0 | JM6: 1 | JN6: 3 | JR6: 0 | JS6: 0 | JT6: 1 | JU6: 0 | JV6: 0 | JW6: 0 | JX6: 0 | JY6: 0 | KB6: 0 | KC6: 0 | KD6: 0 | KF6: 0 | KG6: 0 | KH6: 0 | KI6: 0 | KJ6: 0 | KK6: 0 | KM6: 0 | KP6: 0 | KQ6: 0 | KT6: 0 | KU6: 0 | KX6: 0 | KY6: 0 | KZ6: 1 | LB6: 0 | LD6: 2 | LE6: 1 | LG6: 1 | LH6: 0 | LI6: 0 | LJ6: 0 | LK6: 1 | LL6: 0 | LM6: 0 | LN6: 1 | LO6: 0 | LQ6: 10 | LR6: 0 | LS6: 0 | LT6: 1 | LU6: 1 | LV6: 0 | LW6: 1 | LY6: 1 | LZ6: 〒678-1241 | MA6: 兵庫県赤穂郡上郡町山野里２３０５－１ | MB6: ＪＲ上郡 | MC6: 1 | MD6: 10 | ME6: 1 | MF6: 1 | MG6: 1 | MH6: 0 | MI6: 0 | MK6: 1 | ML6: 0 | MM6: 0 | MN6: 面接時に持参 | MQ6: 1 | MS6: 採用担当者 | MT6: サイヨウタントウシャ | MU6: 総務 | MV6: 1 | MW6: 0791-57-3250 | MY6: 1 | MZ6: 0 | NA6: 0791-57-3253 | NB6: takaminenosato@wind.ocn.ne.jp | NC6: 1 | ND6: 0 | NE6: ■加入保険・有給休暇は法定どおり。_x000d_ _x000d_ ■駐車場有り。駐車料金無料。_x000d_ _x000d_ ◆６５歳以上の方応募可能です。_x000d_ _x000d_ ◆経験のない方でも指導します。_x000d_ _x000d_ ◆５項目の仕事については、１項目でもできる方_x000d_ 相談に応じます。_x000d_ 洗浄・下処理・切込み・調理・盛付 | NF6: パート労働者 | NG6: なし | NH6: 雇用期間の定めなし | NL6: あり | NM6: 変更なし | NN6: ＪＲ上郡 から 徒歩10分 | NP6: 110人 | NQ6: 73人 | NR6: 48人 | NS6: あり（屋内禁煙） | NT6: 可 | NU6: 駐車場 あり | NV6: なし | NW6: 不問 | NX6: 不問 | NY6: 不問 | OB6: 不問 | OD6: 不問 | OF6: （AT限定可） | OL6: 時給 | ON6: 1,175円～1,180円 | OS6: なし | OU6: =IF(OM6<>"",OM6,ON6) -> 1,175円～1,180円 | OW6: 実費支給（上限あり） | OX6: 月額 20,000円まで | OY6: 毎月15日 | OZ6: 毎月28日 当月払い | PA6: 昇給あり | PB6: 前年度実績 あり | PC6: 15円～30円 | PE6: 賞与なし | PJ6: 交替制あり | PK6: (1)6時30分～9時30分 | PL6: (2)9時00分～13時00分 | PM6: (3)13時00分～16時30分 | PN6: 又は6時00分～19時00分の間の4時間程度 | PO6: なし | PQ6: なし | PR6: 0分 | PS6: 週3日程度 | PT6: 労働日数について相談可 | PU6: 他 | PV6: その他 | PY6: 労災 | QB6: なし | QC6: なし | QD6: なし | QE6: なし | QH6: なし | QJ6: 2人 | QK6: 欠員補充 | QL6: 面接 | QM6: 1回 | QN6: 面接選考後 | QP6: 10日以内 | QQ6: 電話・Ｅメール | QR6: 随時 | QS6: ＪＲ上郡 から 徒歩10分 | QT6: ハローワーク紹介状・履歴書（写真貼付）・職務経歴書 | QV6: 選考後は返却 | QW6: ＵＩＪターン歓迎 | QX6: 外国人雇用実績なし | SC6: 0人
A7: 28211- 1535561 | B7: 2821- 3272-3 | C7: 7140005007516 | D7: 4 | E7: 1990 | G7: 436 | H7: 社会福祉法人 みどリ福祉会 認知症高齢者グループホーム グリーン | I7: シヤカイフクシホウジンミドリフクシカイ ニンチショウコウレイシヤグループホーム グリーン | J7: 理事長 | K7: 魚橋 哲夫 | L7: 〒678-0081 | M7: 兵庫県相生市若狭野町入野５５４－１ | N7: 山陽本線相生 | O7: 2 | P7: 15 | Q7: 0791-28-0085 | R7: 認知症対応型共同生活介護事業 | U7: 入所者９名の日常生活の援助や介護を行う。 | V7: 0 | W7: 1 | X7: 1 | Y7: 0 | Z7: 0 | AA7: 0 | AB7: 1 | AC7: 1 | AI7: 854 | AJ7: 28208 | AK7: 平成2年 | AM7: 436人 | AO7: 山陽本線相生 から 車15分 | AP7: なし | AQ7: あり | AR7: あり | AS7: なし | AT7: なし | AU7: なし | AV7: あり | AW7: あり | BB7: 老人福祉・介護事業 | BE7: 〒678-0081 | BF7: 〒678-0081 | BG7: 兵庫県相生市若狭野町入野５５４－１ | BH7: 兵庫県相生市若狭野町入野５５４－１ | BI7: 山陽本線相生 | BJ7: 山陽本線相生 | BK7: （静） | BL7: 28211 | BM7: 46356 | BN7: 1 | BO7: 0 | BP7: 1 | BQ7: 46293 | BS7: 0 | BT7: 1 | BU7: 2 | CC7: B10 | CD7: B60 | CE7: Y60 | CF7: Y61 | CI7: 28208 | CM7: 0 | CN7: 1 | CO7: 正社員：施設介護員（介護）／６５歳以上の方、応募可能 | CP7: 050-01 | CQ7: 055-07 | CR7: 096-01 | CS7: 3 | CT7: 2313 | CW7: 2821 | CX7: 2821- 3272-3 | CY7: 0 | CZ7: 2821 | DA7: 2821- 3272-3 | DB7: 0 | DC7: 3 | DD7: 0 | DH7: （フルタイム） | DJ7: 46293 | DM7: 事業所名等を含む求人情報を公開する | DN7: 地方自治体のみ可 | DR7: 兵庫県相生市 | DS7: 兵庫県相生市 | DX7: 派遣・請負ではない | DY7: 介護職員初任者研修修了者 | EB7: 未充足 | EC7: 0人 | EE7: ＊認知症のある方の施設内での日常的介護業務および調理。_x000d_ （家事活動が多く含まれます。） ■９人の介護及び調理を行って頂きます。_x000d_ ・介護 食事の介助・トイレの付き添い等。_x000d_ ・調理 昼食・夕食食。_x000d_ ・清掃 廊下・階段・リビング・トイレ・お風呂場等。 _x000d_ ◆６５歳以上の方、応募可能（契約社員）_x000d_ ＊職場見学可能です。_x000d_ _x000d_ 【変更範囲：変更なし】 | EF7: 1 | EJ7: 1 | ER7: 1 | ES7: ３ケ月 | ET7: 1 | EV7: 1 | EW7: 〒678-0081 | EX7: 兵庫県相生市若狭野町入野５５４－１ | EY7: 山陽本線相生 | EZ7: 2 | FA7: 15 | FB7: 0 | FD7: 8 | FE7: 7 | FF7: 4 | FG7: 1 | FH7: 1 | FJ7: 1 | FK7: 1 | FL7: 0 | FN7: 2 | FO7: 18 | FP7: 59 | FQ7: 22 | FR7: 夜勤業務があるため 定年が６０歳の為 | FS7: 3 | FV7: 1 | FW7: 福祉施設での経験等 | FY7: 0 | FZ7: 1 | GA7: 1 | GB7: 2 | GE7: 普通自動車免許（通勤用） | GF7: 0 | GG7: 1 | GK7: 200000 | GL7: 200000 | GY7: 0 | HC7: 200000 | HD7: 200000 | HE7: 夜勤手当１回８，０００円_x000d_ 資格手当５，０００円 処遇改善手当 １０，０００円 | HF7: 21 | HG7: 1 | HH7: 1 | HI7: 30000 | HJ7: 1 | HK7: 20 | HM7: 1 | HN7: 1 | HO7: 29 | HQ7: 1 | HR7: 1 | HS7: 1 | HT7: 1 | HU7: 1500 | HV7: 4000 | HY7: 1 | HZ7: 1 | IA7: 2 | IB7: 1 | IC7: 3 | IF7: 2 | IH7: 830 | IK7: 1730 | IQ7: 0 | IR7: 0 | IS7: 夜勤 １６時３０分～９時３０分 休憩２時間 | IT7: 1 | IU7: 10 | IV7: 0 | IX7: 60 | JD7: 0 | JE7: 0 | JF7: 0 | JG7: 0 | JH7: 0 | JI7: 0 | JJ7: 0 | JK7: 0 | JL7: 0 | JM7: 1 | JN7: 1 | JO7: 会社カレンダーによる | JP7: 10 | JQ7: 113 | JR7: 1 | JS7: 1 | JT7: 1 | JU7: 0 | JV7: 1 | JW7: 1 | JX7: 0 | JY7: 0 | KA7: 1 | KB7: 0 | KC7: 0 | KD7: 0 | KF7: 1 | KG7: 1 | KH7: 1 | KI7: 1 | KJ7: 0 | KK7: 0 | KL7: 1 | KM7: 1 | KN7: 1 | KO7: 60 | KP7: 1 | KQ7: 1 | KR7: 1 | KS7: 70 | KT7: 1 | KU7: 1 | KV7: 1 | KW7: 70 | KX7: 0 | KY7: 0 | KZ7: 1 | LB7: 0 | LD7: 1 | LG7: 1 | LH7: 0 | LI7: 0 | LJ7: 0 | LK7: 1 | LL7: 0 | LM7: 0 | LN7: 1 | LO7: 0 | LQ7: 7 | LR7: 0 | LS7: 0 | LT7: 1 | LU7: 0 | LV7: 0 | LW7: 1 | LY7: 1 | LZ7: 〒678-0081 | MA7: 兵庫県相生市若狭野町入野５５４－１ | MB7: 山陽本線相生 | MC7: 2 | MD7: 15 | ME7: 1 | MF7: 1 | MG7: 0 | MH7: 0 | MI7: 0 | MK7: 1 | ML7: 0 | MM7: 0 | MN7: 面接時に持参 | MQ7: 2 | MS7: 採用担当者 | MU7: 求人に関する営業電話はお断り | MV7: 1 | MW7: 0791-28-0085 | MY7: 0 | MZ7: 0 | NC7: 0 | NE7: ■６５歳以上の方応募可能。_x000d_ _x000d_ ■駐車場有り。駐車料金無料。 | NF7: 正社員 | NH7: 雇用期間の定めなし | NL7: あり | NM7: 変更なし | NN7: 山陽本線相生 から 車15分 | NP7: 8人 | NQ7: 7人 | NR7: 4人 | NS7: あり（屋内禁煙） | NT7: 可 | NU7: 駐車場 あり | NV7: なし | NW7: 18歳～59歳 | NX7: 法令の規定により年齢制限がある | NY7: 不問 | OB7: 必須 | OC7: 福祉施設での経験等 | OE7: 普通自動車運転免許 必須 | OF7: （AT限定可） | OG7: あれば尚可 | OJ7: 普通自動車免許（通勤用） | OL7: 月給 | ON7: 200,000円～200,000円 | OS7: なし | OU7: =IF(OM7<>"",OM7,ON7) -> 200,000円～200,000円 | OV7: 21.0日 | OW7: 実費支給（上限あり） | OX7: 月額 30,000円まで | OY7: 毎月20日 | OZ7: 毎月29日 当月払い | PA7: 昇給あり | PB7: 前年度実績 あり | PC7: 1,500円～4,000円 | PE7: 賞与あり | PF7: 前年度実績 あり | PG7: 年2回（前年度実績） | PH7: 3.00ヶ月分 | PJ7: 交替制あり | PK7: (1)8時30分～17時30分 | PO7: あり | PP7: 10時間 | PQ7: なし | PR7: 60分 | PU7: 他 | PV7: 毎 週 | PW7: 10日 | PX7: 113日 | PY7: 雇用・労災・健康・厚生 | QA7: 退職金共済 | QB7: あり （勤続 1年以上） | QC7: あり 一律 60歳 | QD7: あり 上限 70歳まで | QE7: あり 上限 70歳まで | QH7: なし | QJ7: 1人 | QL7: 面接 | QM7: 1回 | QN7: 面接選考後 | QP7: 7日以内 | QQ7: 電話 | QR7: 随時 | QS7: 山陽本線相生 から 車15分 | QT7: ハローワーク紹介状・履歴書（写真貼付） | QV7: 求人者の責任にて廃棄 | QX7: 外国人雇用実績 | SC7: 0人
A8: 28211- 1536461 | B8: 2821- 2775-0 | C8: 6140001039844 | D8: 3 | E8: 1960 | F8: 15000 | G8: 69 | H8: 西播開発 株式会社 | I8: セイバンカイハツ カブシキガイシヤ | J8: 支配人 | K8: 大浦秀幸 | L8: 〒678-0011 | M8: 兵庫県相生市那波野２７８ | N8: 山陽本線相生 | O8: 2 | P8: 5 | Q8: 0791-22-1010 | R8: 土地開発経営・ゴルフ場建設経営 _x000d_ _x000d_ | U8: 開場６４年の歴史あるゴルフ場_x000d_ | V8: 0 | W8: 0 | X8: 0 | Y8: 0 | Z8: 0 | AA8: 0 | AB8: 1 | AC8: 1 | AD8: https://aioicc.com/ | AI8: 804 | AJ8: 28208 | AK8: 昭和35年 | AL8: 1億5,000万円 | AM8: 69人 | AO8: 山陽本線相生 から 車5分 | AP8: なし | AQ8: なし | AR8: なし | AS8: なし | AT8: なし | AU8: なし | AV8: あり | AW8: あり | BB8: スポーツ施設提供業 | BE8: 〒678-0011 | BF8: 〒678-0011 | BG8: 兵庫県相生市那波野２７８ | BH8: 兵庫県相生市那波野２７８ | BI8: 山陽本線相生 | BJ8: 山陽本線相生 | BL8: 28211 | BM8: 46356 | BN8: 1 | BO8: 0 | BP8: 2 | BQ8: 46293 | BS8: 0 | BT8: 1 | BU8: 2 | CC8: B10 | CD8: B60 | CE8: Y60 | CF8: Y61 | CI8: 28208 | CM8: 0 | CN8: 1 | CO8: （パ）ゴルフ場／マスター室業務スタッフ | CP8: 056-08 | CQ8: 040-99 | CS8: 3 | CW8: 2821 | CX8: 2821- 2775-0 | CY8: 0 | CZ8: 2821 | DA8: 2821- 2775-0 | DB8: 0 | DC8: 3 | DD8: 0 | DH8: （パートタイム） | DJ8: 46293 | DM8: 事業所名等を含む求人情報を公開する | DN8: 地方自治体のみ可 | DR8: 兵庫県相生市 | DS8: 兵庫県相生市 | DX8: 派遣・請負ではない | EB8: 未充足 | EC8: 0人 | EE8: ゴルフ場マスター室業務全般。_x000d_ ・バッグの受け渡し（ポーター業務）_x000d_ ・カートの管理（整備、スタート順配置）_x000d_ ・キャディバッグの積み下ろし、クラブ確認。_x000d_ ・コース内巡回など運行管理補助。_x000d_ _x000d_ _x000d_ 【変更範囲：変更なし】_x000d_ | EF8: 5 | EH8: 0 | EJ8: 2 | EM8: 1 | EN8: 0 | EO8: 1 | EP8: 1 | ER8: 1 | ES8: ３ヶ月 | ET8: 1 | EV8: 1 | EW8: 〒678-0011 | EX8: 兵庫県相生市那波野２７８ | EY8: 山陽本線相生 | EZ8: 2 | FA8: 5 | FB8: 0 | FD8: 41 | FE8: 25 | FF8: 23 | FG8: 1 | FH8: 1 | FJ8: 1 | FK8: 1 | FL8: 0 | FN8: 1 | FS8: 3 | FV8: 2 | FW8: ゴルフの知識がある方 | FY8: 0 | FZ8: 1 | GA8: 1 | GF8: 0 | GG8: 4 | GK8: 1172 | GL8: 1200 | GY8: 0 | HC8: 1172 | HD8: 1200 | HG8: 1 | HH8: 1 | HI8: 20000 | HJ8: 2 | HM8: 1 | HN8: 2 | HO8: 25 | HQ8: 1 | HR8: 0 | HY8: 0 | IF8: 2 | IN8: 630 | IO8: 1600 | IP8: 5 | IQ8: 0 | IR8: 1 | IS8: 勤務時間応相談、短時間勤務も可能 | IT8: 1 | IU8: 5 | IV8: 0 | IX8: 0 | IY8: 2 | JB8: 2 | JC8: 4 | JD8: 1 | JE8: 0 | JF8: 0 | JG8: 0 | JH8: 0 | JI8: 0 | JJ8: 0 | JK8: 0 | JL8: 0 | JM8: 1 | JN8: 1 | JR8: 0 | JS8: 1 | JT8: 1 | JU8: 0 | JV8: 0 | JW8: 0 | JX8: 0 | JY8: 0 | KA8: 1 | KB8: 0 | KC8: 0 | KD8: 0 | KF8: 1 | KG8: 0 | KH8: 0 | KI8: 0 | KJ8: 0 | KK8: 0 | KM8: 0 | KP8: 0 | KQ8: 0 | KT8: 0 | KU8: 0 | KX8: 0 | KY8: 0 | KZ8: 1 | LB8: 0 | LD8: 1 | LE8: 1 | LG8: 1 | LH8: 0 | LI8: 0 | LJ8: 0 | LK8: 1 | LL8: 0 | LM8: 0 | LN8: 1 | LO8: 0 | LQ8: 4 | LR8: 0 | LS8: 0 | LT8: 1 | LU8: 0 | LV8: 0 | LW8: 1 | LY8: 1 | LZ8: 〒678-0011 | MA8: 兵庫県相生市那波野２７８ | MB8: 山陽本線相生 | MC8: 2 | MD8: 5 | ME8: 1 | MF8: 1 | MG8: 0 | MH8: 0 | MI8: 0 | MK8: 1 | ML8: 0 | MM8: 0 | MN8: 面接時に持参 | MQ8: 2 | MS8: 採用担当者 | MU8: 求人掲載に関する営業電話はお断り | MV8: 1 | MW8: 0791-22-1010 | MY8: 0 | MZ8: 0 | NB8: arai@aioicc.com | NC8: 0 | NE8: ■加入保険・有給休暇は法定どおり_x000d_ _x000d_ ■駐車場有り。駐車料金無料_x000d_ _x000d_ ■１年毎の契約更新になります_x000d_ _x000d_ ■６０歳以上の方応募可能です_x000d_ _x000d_ 開場６５年の歴史あるゴルフ場マスター室のお仕事です。_x000d_ _x000d_ ゴルフ好きの方歓迎 練習、プレー優待あります。_x000d_ _x000d_ 働きやすいアットホームな職場環境！_x000d_ _x000d_ _x000d_ 【ハローワーク以外の職業相談・事業所からの営業お断り】 | NF8: パート労働者 | NG8: なし | NH8: 雇用期間の定めあり | NJ8: 1年 | NK8: 契約更新の可能性あり（原則更新） | NL8: あり | NM8: 変更なし | NN8: 山陽本線相生 から 車5分 | NP8: 41人 | NQ8: 25人 | NR8: 23人 | NS8: あり（屋内禁煙） | NT8: 可 | NU8: 駐車場 あり | NV8: なし | NW8: 不問 | NX8: 不問 | NY8: 不問 | OB8: あれば尚可 | OC8: ゴルフの知識がある方 | OE8: 普通自動車運転免許 必須 | OF8: （AT限定可） | OL8: 時給 | ON8: 1,172円～1,200円 | OS8: なし | OU8: =IF(OM8<>"",OM8,ON8) -> 1,172円～1,200円 | OW8: 実費支給（上限あり） | OX8: 月額 20,000円まで | OY8: 月末 | OZ8: 毎月25日 翌月払い | PA8: 昇給あり | PB8: 前年度実績 なし | PE8: 賞与なし | PJ8: 交替制あり | PN8: 又は6時30分～16時00分の間の5時間程度 | PO8: あり | PP8: 5時間 | PQ8: なし | PR8: 0分 | PS8: 週4日程度 | PT8: 労働日数について相談可 | PU8: 他 | PV8: 毎 週 | PY8: 雇用・労災 | QB8: なし | QC8: なし | QD8: なし | QE8: なし | QH8: なし | QJ8: 1人 | QK8: 欠員補充 | QL8: 面接 | QM8: 1回 | QN8: 面接選考後 | QP8: 4日以内 | QQ8: 電話 | QR8: 随時 | QS8: 山陽本線相生 から 車5分 | QT8: ハローワーク紹介状・履歴書（写真貼付） | QV8: 求人者の責任にて廃棄 | QX8: 外国人雇用実績 | SC8: 0人
A9: 28211- 1538861 | B9: 2821- 3025-8 | C9: 7140005007516 | D9: 4 | E9: 1990 | G9: 436 | H9: 社会福祉法人みどり福祉会 若狭野荘 | I9: シャカイフクシホウジンミドリフクシカイ ワカサノソウ | J9: 理事長 | K9: 魚橋 哲夫 | L9: 〒678-0081 | M9: 兵庫県相生市若狭野町若狭野２３５－４４ | N9: ＪＲ相生 | O9: 2 | P9: 10 | Q9: 0791-28-1510 | R9: 障害者支援施設（生活介護・施設入所支援） | U9: 家族的な雰囲気です。 | V9: 0 | W9: 0 | X9: 1 | Y9: 0 | Z9: 0 | AA9: 0 | AB9: 1 | AC9: 1 | AD9: http://www.midori-fukushi.com | AI9: 855 | AJ9: 28208 | AK9: 平成2年 | AM9: 436人 | AO9: ＪＲ相生 から 車10分 | AP9: なし | AQ9: なし | AR9: あり | AS9: なし | AT9: なし | AU9: なし | AV9: あり | AW9: あり | BB9: 障害者福祉事業 | BE9: 〒678-0081 | BF9: 〒678-0081 | BG9: 兵庫県相生市若狭野町若狭野２３５－４４ | BH9: 兵庫県相生市若狭野町若狭野２３５－４４ | BI9: ＪＲ相生 | BJ9: ＪＲ相生 | BK9: （静） | BL9: 28211 | BM9: 46356 | BN9: 1 | BO9: 0 | BP9: 1 | BQ9: 46293 | BS9: 0 | BT9: 1 | BU9: 2 | CB9: Z88 | CC9: B10 | CD9: B60 | CE9: Y60 | CF9: Y61 | CI9: 28208 | CM9: 0 | CN9: 1 | CO9: 正社員：支援員／６０歳以上の方、応募可能（契約社員） | CP9: 049-04 | CQ9: 050-03 | CS9: 3 | CW9: 2821 | CX9: 2821- 3025-8 | CY9: 0 | CZ9: 2821 | DA9: 2821- 3025-8 | DB9: 0 | DC9: 3 | DD9: 0 | DH9: （フルタイム） | DJ9: 46293 | DM9: 事業所名等を含む求人情報を公開する | DN9: 地方自治体のみ可 | DR9: 兵庫県相生市 | DS9: 兵庫県相生市 | DX9: 派遣・請負ではない | EB9: 未充足 | EC9: 0人 | EE9: 支援員業務_x000d_ ※知的障害者の介護支援業務。（入所者約５０人）_x000d_ ※知的障害者の作業の補助。_x000d_ ※食事・入浴・排泄の介助を行っていただきます。_x000d_ ／６０歳以上の方、応募可能（契約社員）_x000d_ ／見学可能です_x000d_ _x000d_ 【変更範囲：変更なし】_x000d_ _x000d_ | EF9: 1 | EJ9: 1 | ER9: 1 | ES9: ３ヶ月 | ET9: 1 | EV9: 1 | EW9: 〒678-0081 | EX9: 兵庫県相生市若狭野町若狭野２３５－４４ | EY9: ＪＲ相生 | EZ9: 2 | FA9: 10 | FB9: 0 | FD9: 48 | FE9: 32 | FF9: 19 | FG9: 1 | FH9: 1 | FJ9: 1 | FK9: 1 | FL9: 1 | FM9: 法人内施設 | FN9: 2 | FO9: 18 | FP9: 59 | FQ9: 21 | FR9: 深夜業務がある為 定年が６０歳の為 | FS9: 1 | FT9: 3 | FV9: 3 | FY9: 0 | FZ9: 1 | GA9: 1 | GE9: 普通自動車免許（通勤用） | GF9: 0 | GG9: 1 | GK9: 165000 | GL9: 172000 | GM9: 処遇 | GQ9: 60000 | GU9: 60000 | GY9: 0 | HC9: 225000 | HD9: 232000 | HE9: 夜勤手当 ８，０００円／１回 （月４回程度） 介護福祉士 ５０００円_x000d_ 社会福祉士 １５、０００円 | HF9: 21 | HG9: 1 | HH9: 1 | HI9: 30000 | HJ9: 1 | HK9: 20 | HM9: 1 | HN9: 1 | HO9: 29 | HQ9: 1 | HR9: 1 | HS9: 1 | HT9: 1 | HU9: 1000 | HV9: 2000 | HY9: 1 | HZ9: 1 | IA9: 2 | IB9: 1 | IC9: 4.2 | IF9: 2 | IH9: 700 | II9: 830 | IJ9: 930 | IK9: 1600 | IL9: 1730 | IM9: 1830 | IQ9: 0 | IR9: 0 | IS9: ※就業時間： （４）１１：００～２０：００_x000d_ （５）１６：００～０９：３０「夜勤」_x000d_ （月４回程度です） | IT9: 0 | IV9: 0 | IX9: 60 | JD9: 0 | JE9: 0 | JF9: 0 | JG9: 0 | JH9: 0 | JI9: 0 | JJ9: 0 | JK9: 0 | JL9: 0 | JM9: 1 | JN9: 3 | JO9: ＊会社カレンダーによる。_x000d_ | JP9: 10 | JQ9: 113 | JR9: 1 | JS9: 1 | JT9: 1 | JU9: 0 | JV9: 1 | JW9: 1 | JX9: 0 | JY9: 0 | KA9: 1 | KB9: 0 | KC9: 0 | KD9: 1 | KF9: 1 | KG9: 1 | KH9: 1 | KI9: 1 | KJ9: 0 | KK9: 0 | KL9: 1 | KM9: 1 | KN9: 1 | KO9: 60 | KP9: 0 | KQ9: 1 | KR9: 1 | KS9: 70 | KT9: 0 | KU9: 1 | KV9: 1 | KW9: 70 | KX9: 0 | KY9: 0 | KZ9: 1 | LB9: 1 | LD9: 1 | LE9: 1 | LG9: 1 | LH9: 0 | LI9: 0 | LJ9: 0 | LK9: 1 | LL9: 0 | LM9: 0 | LN9: 1 | LO9: 0 | LQ9: 7 | LR9: 0 | LS9: 0 | LT9: 1 | LU9: 0 | LV9: 0 | LW9: 1 | LY9: 1 | LZ9: 〒678-0081 | MA9: 兵庫県相生市若狭野町若狭野２３５－４４ | MB9: ＪＲ相生 | MC9: 2 | MD9: 10 | ME9: 1 | MF9: 1 | MG9: 0 | MH9: 0 | MI9: 0 | MK9: 1 | ML9: 0 | MM9: 0 | MN9: 面接時に持参 | MQ9: 2 | MS9: 採用担当者 | MU9: 求人掲載に関する営業電話はお断り | MV9: 1 | MW9: 0791-28-1510 | MY9: 0 | MZ9: 0 | NC9: 0 | ND9: 1 | NE9: _x000d_ ■駐車場有り。駐車料金無料。_x000d_ _x000d_ ■定年は６０歳です。６０歳以上の雇用については１年毎の契約_x000d_ 更新になります。賃金については変更になります。_x000d_ _x000d_ ／６０歳以上の方、応募可能（契約社員）_x000d_ _x000d_ ／見学可能です_x000d_ | NF9: 正社員 | NH9: 雇用期間の定めなし | NL9: あり | NM9: 変更なし | NN9: ＪＲ相生 から 車10分 | NP9: 48人 | NQ9: 32人 | NR9: 19人 | NS9: あり（屋内禁煙） | NT9: 可 | NU9: 駐車場 あり | NV9: あり | NW9: 18歳～59歳 | NX9: 定年を上限 | NY9: 必須 | NZ9: 高校 | OB9: 不問 | OE9: 普通自動車運転免許 必須 | OF9: （AT限定可） | OJ9: 普通自動車免許（通勤用） | OL9: 月給 | ON9: 165,000円～172,000円 | OO9: 処遇手当60,000円～60,000円 | OS9: なし | OU9: =IF(OM9<>"",OM9,ON9) -> 165,000円～172,000円 | OV9: 21.0日 | OW9: 実費支給（上限あり） | OX9: 月額 30,000円まで | OY9: 毎月20日 | OZ9: 毎月29日 当月払い | PA9: 昇給あり | PB9: 前年度実績 あり | PC9: 1,000円～2,000円 | PE9: 賞与あり | PF9: 前年度実績 あり | PG9: 年2回（前年度実績） | PH9: 4.20ヶ月分 | PJ9: 交替制あり | PK9: (1)7時00分～16時00分 | PL9: (2)8時30分～17時30分 | PM9: (3)9時30分～18時30分 | PO9: なし | PQ9: なし | PR9: 60分 | PU9: 他 | PV9: その他 | PW9: 10日 | PX9: 113日 | PY9: 雇用・労災・健康・厚生 | PZ9: 給付 | QA9: 退職金共済 | QB9: あり （勤続 1年以上） | QC9: あり 一律 60歳 | QD9: あり 上限 70歳まで | QE9: あり 上限 70歳まで | QH9: なし | QI9: あり | QJ9: 1人 | QK9: 欠員補充 | QL9: 面接 | QM9: 1回 | QN9: 面接選考後 | QP9: 7日以内 | QQ9: 電話 | QR9: 随時 | QS9: ＪＲ相生 から 車10分 | QT9: ハローワーク紹介状・履歴書（写真貼付） | QV9: 求人者の責任にて廃棄 | QX9: 外国人雇用実績あり | SC9: 0人
A10: 28211- 1539961 | B10: 2821-912566-1 | C10: 7140005007516 | D10: 4 | E10: 1990 | G10: 436 | H10: 社会福祉法人みどり福祉会 障害者グループホーム入野グリーン | I10: シャカイフクシホウジンミドリフクシカイ ショウガイシャグループホームイリノグリーン | J10: 理事長 | K10: 魚橋 哲夫 | L10: 〒678-0081 | M10: 兵庫県相生市若狭野町入野５５４－１ | N10: ＪＲ相生 | O10: 2 | P10: 15 | Q10: 0791-28-0085 | R10: 障害者グループホーム | U10: 障害者の方が共同生活をされるホーム（入居者５名（６名））での日常生活や食事等の支援を行う | V10: 0 | W10: 0 | X10: 2 | Y10: 0 | Z10: 0 | AA10: 0 | AB10: 1 | AC10: 1 | AI10: 855 | AJ10: 28208 | AK10: 平成2年 | AM10: 436人 | AO10: ＪＲ相生 から 車15分 | AP10: なし | AQ10: なし | AR10: 該当者なし | AS10: なし | AT10: なし | AU10: なし | AV10: あり | AW10: あり | BB10: 障害者福祉事業 | BF10: 〒678-0081 | BH10: 兵庫県相生市若狭野町入野５５４－１ | BJ10: ＪＲ相生 | BL10: 28211 | BM10: 46356 | BN10: 1 | BO10: 0 | BP10: 2 | BQ10: 46293 | BS10: 0 | BT10: 1 | BU10: 2 | CC10: B10 | CD10: B60 | CE10: Y60 | CF10: Y61 | CI10: 28208 | CM10: 0 | CN10: 1 | CO10: （パ）生活支援員／日常生活のお手伝い | CP10: 050-03 | CQ10: 052-01 | CR10: 055-07 | CS10: 3 | CW10: 2821 | CX10: 2821-912566-1 | CY10: 0 | DC10: 3 | DD10: 0 | DH10: （パートタイム） | DJ10: 46293 | DM10: 事業所名等を含む求人情報を公開する | DN10: 地方自治体のみ可 | DR10: 兵庫県相生市 | DS10: 兵庫県相生市 | DX10: 派遣・請負ではない | EB10: 未充足 | EC10: 0人 | EE10: 障害者の方が、共同生活をされるグループホーム『グループホームｕｍｉ・凪』にて、利用者さま（１居住区最大５名）が安心して生活していただくように、日常生活のお手伝い（食事つくり）などお願いします。_x000d_ ＊食事の調理について：材料、献立は整っており、家庭のご飯作りができる方であれば大丈夫です_x000d_ ＊６０歳以上の方、応募可能です_x000d_ _x000d_ 【変更範囲：変更なし】 | EF10: 5 | EH10: 0 | EJ10: 2 | EM10: 1 | EO10: 1 | EP10: 2 | EQ10: 勤務態度や能力等により判断します。 | ER10: 1 | ES10: １ヵ月 | ET10: 1 | EV10: 3 | EW10: 〒678-0051 | EX10: 兵庫県相生市那波大浜町２４－４_x000d_ 『グループホームｕｍｉ・凪』 | EY10: ＪＲ相生 | EZ10: 1 | FA10: 10 | FB10: 0 | FD10: 9 | FE10: 9 | FF10: 9 | FG10: 1 | FH10: 1 | FJ10: 1 | FK10: 1 | FL10: 0 | FN10: 1 | FS10: 3 | FV10: 2 | FW10: 福祉施設での勤務経験 | FY10: 1 | GA10: 1 | GF10: 0 | GG10: 4 | GK10: 1180 | GL10: 1180 | GY10: 0 | HC10: 1180 | HD10: 1180 | HG10: 1 | HH10: 1 | HI10: 30000 | HJ10: 1 | HK10: 20 | HM10: 1 | HN10: 1 | HO10: 29 | HQ10: 0 | HY10: 0 | IF10: 2 | IH10: 700 | II10: 1430 | IJ10: 830 | IK10: 930 | IL10: 1900 | IM10: 1430 | IQ10: 0 | IR10: 0 | IS10: （１）（２）の交替制ですが、柔軟に対応します_x000d_ （３）の勤務は、土日祝日及び年末年始のみ（休憩時間３０分）_x000d_ 勤務時間・労働日数等は相談に応じます | IT10: 0 | IV10: 0 | IX10: 0 | IY10: 1 | IZ10: 2 | JA10: 3 | JD10: 1 | JE10: 0 | JF10: 0 | JG10: 0 | JH10: 0 | JI10: 0 | JJ10: 0 | JK10: 0 | JL10: 0 | JM10: 1 | JN10: 3 | JO10: 勤務表による_x000d_ | JR10: 0 | JS10: 0 | JT10: 1 | JU10: 0 | JV10: 0 | JW10: 0 | JX10: 0 | JY10: 0 | KB10: 0 | KC10: 0 | KD10: 0 | KF10: 0 | KG10: 0 | KH10: 0 | KI10: 0 | KJ10: 0 | KK10: 0 | KM10: 0 | KP10: 0 | KQ10: 0 | KT10: 0 | KU10: 0 | KX10: 0 | KY10: 0 | LB10: 0 | LD10: 1 | LE10: 1 | LG10: 1 | LH10: 0 | LI10: 0 | LJ10: 0 | LK10: 1 | LL10: 0 | LM10: 0 | LN10: 1 | LO10: 0 | LQ10: 7 | LR10: 0 | LS10: 0 | LT10: 1 | LU10: 0 | LV10: 0 | LW10: 1 | LY10: 1 | LZ10: 〒678-0081 | MA10: 兵庫県相生市若狭野町入野５５４－１ | MB10: ＪＲ相生 | MC10: 2 | MD10: 15 | ME10: 1 | MF10: 1 | MG10: 0 | MH10: 0 | MI10: 0 | MK10: 1 | ML10: 0 | MM10: 0 | MN10: 面接時に持参 | MQ10: 1 | MS10: 採用担当者 | MU10: 求人掲載に関する営業電話はお断り | MV10: 1 | MW10: 0791-28-0085 | MY10: 0 | MZ10: 0 | NC10: 0 | NE10: 障害者の方が、共同生活をされるグループホームにて、利用者さま（１居住区最大５名）が安心して生活していただくように、日常生活のお手伝い（食事つくり）などお願いします。_x000d_ ＊食事の調理について：材料、献立は整っており、家庭のご飯作りができる方であれば大丈夫です_x000d_ ＊６０歳以上の方、応募可能です_x000d_ ＊勤務時間、日数など、相談に応じます_x000d_ ＊加入保険、年次有給休暇等、法定どおりです_x000d_ _x000d_ ＊面接時「ハローワーク紹介状」「履歴書（写真貼付）」を_x000d_ 持参してください_x000d_ | NF10: パート労働者 | NG10: なし | NH10: 雇用期間の定めあり | NJ10: 1年 | NK10: 契約更新の可能性あり（条件あり） | NL10: あり | NM10: 変更なし | NN10: ＪＲ相生 から 徒歩10分 | NP10: 9人 | NQ10: 9人 | NR10: 9人 | NS10: あり（屋内禁煙） | NT10: 可 | NU10: 駐車場 あり | NV10: なし | NW10: 不問 | NX10: 不問 | NY10: 不問 | OB10: あれば尚可 | OC10: 福祉施設での勤務経験 | OD10: 不問 | OF10: （AT限定可） | OL10: 時給 | ON10: 1,180円～1,180円 | OS10: なし | OU10: =IF(OM10<>"",OM10,ON10) -> 1,180円～1,180円 | OW10: 実費支給（上限あり） | OX10: 月額 30,000円まで | OY10: 毎月20日 | OZ10: 毎月29日 当月払い | PA10: 昇給なし | PE10: 賞与なし | PJ10: 交替制あり | PK10: (1)7時00分～9時30分 | PL10: (2)14時30分～19時00分 | PM10: (3)8時30分～14時30分 | PO10: なし | PQ10: なし | PR10: 0分 | PS10: 週2日～週3日 | PT10: 労働日数について相談可 | PU10: 他 | PV10: その他 | PY10: 労災 | QB10: なし | QC10: なし | QD10: なし | QE10: なし | QJ10: 1人 | QK10: 欠員補充 | QL10: 面接 | QM10: 1回 | QN10: 面接選考後 | QP10: 7日以内 | QQ10: 電話 | QR10: 随時 | QS10: ＪＲ相生 から 車15分 | QT10: ハローワーク紹介状・履歴書（写真貼付） | QV10: 選考後は返却 | QX10: 外国人雇用実績 | SC10: 0人
A11: 28211- 1540361 | B11: 2821- 3115-0 | C11: 7140005007516 | D11: 4 | E11: 1990 | G11: 436 | H11: 社会福祉法人 みどり福祉会 特別養護老人ホーム グリーンハウス | I11: シャカイフクシホウジン ミドリフクシカイ トクベツヨウゴロウジンホーム グリーンハウス | J11: 理事長 | K11: 魚橋 哲夫 | L11: 〒678-0081 | M11: 兵庫県相生市若狭野町雨内８００－１４６ | N11: 山陽本線相生 | O11: 2 | P11: 15 | Q11: 0791-28-1756 | R11: ６５才以上の高齢者の施設介護 | U11: 介護保険制度のサービス提供施設として需要は多く、将来安定した職場として期待されています。 | V11: 0 | W11: 0 | X11: 1 | Y11: 0 | Z11: 0 | AA11: 0 | AB11: 1 | AC11: 1 | AI11: 854 | AJ11: 28208 | AK11: 平成2年 | AM11: 436人 | AO11: 山陽本線相生 から 車15分 | AP11: なし | AQ11: なし | AR11: あり | AS11: なし | AT11: なし | AU11: なし | AV11: あり | AW11: あり | BB11: 老人福祉・介護事業 | BK11: （静） | BL11: 28211 | BM11: 46356 | BN11: 1 | BO11: 0 | BP11: 1 | BQ11: 46293 | BS11: 0 | BT11: 1 | BU11: 2 | CC11: B10 | CD11: B60 | CE11: Y60 | CF11: Y61 | CI11: 28208 | CM11: 0 | CN11: 1 | CO11: （正）介護職員／日曜日休み／デイサービスセンター | CP11: 050-01 | CQ11: 050-99 | CS11: 3 | CT11: 2302 | DC11: 3 | DD11: 0 | DH11: （フルタイム） | DJ11: 46293 | DM11: 事業所名等を含む求人情報を公開する | DN11: 地方自治体のみ可 | DR11: 兵庫県相生市 | DS11: 兵庫県相生市 | DX11: 派遣・請負ではない | DY11: 介護福祉士 | EB11: 未充足 | EC11: 0人 | EE11: 『グリーンハウスデイサービスセンター』にて、利用者さまへの日常生活の支援（食事・入浴・トイレなど）を行っていただきます。_x000d_ ■パソコンによるデータ入力。（記録入力）_x000d_ ■託児所があります。_x000d_ ■資格の無い方でも応募可能です。_x000d_ ◆６０歳以上の方、応募可能です（契約社員）_x000d_ ◆見学・相談だけでも結構ですので、お気軽にお問合せください。_x000d_ _x000d_ 【変更範囲：変更なし】 | EF11: 1 | EJ11: 1 | ER11: 1 | ES11: ３ヶ月 | ET11: 1 | EV11: 3 | EW11: 〒678-0081 | EX11: 兵庫県相生市若狭野町雨内８００－１４６_x000d_ みどり福祉会 グリーンハウスデイサービスセンター | EY11: 山陽本線相生 | EZ11: 2 | FA11: 10 | FB11: 0 | FD11: 82 | FE11: 66 | FF11: 31 | FG11: 1 | FH11: 1 | FJ11: 1 | FK11: 1 | FL11: 1 | FM11: 法人内の事業所 | FN11: 2 | FP11: 59 | FQ11: 21 | FR11: 定年が６０歳のため ＊特記事項 | FS11: 3 | FV11: 2 | FW11: ＊高齢者の介護業務 | FX11: ＊記録入力の為、ＰＣの基礎知識と簡単な文章入力が出来るスキル_x000d_ | FY11: 0 | FZ11: 1 | GA11: 1 | GB11: 2 | GE11: 普通自動車免許（通勤用） | GF11: 0 | GG11: 1 | GK11: 165000 | GL11: 224000 | GM11: 処遇 | GQ11: 35000 | GU11: 55000 | GY11: 0 | HC11: 200000 | HD11: 279000 | HF11: 21 | HG11: 1 | HH11: 1 | HI11: 30000 | HJ11: 1 | HK11: 20 | HM11: 1 | HN11: 1 | HO11: 29 | HQ11: 1 | HR11: 1 | HS11: 1 | HT11: 1 | HU11: 1000 | HV11: 2500 | HY11: 1 | HZ11: 1 | IA11: 2 | IB11: 1 | IC11: 3.8 | IH11: 830 | IK11: 1730 | IQ11: 0 | IR11: 0 | IT11: 0 | IV11: 0 | IX11: 60 | JD11: 0 | JE11: 0 | JF11: 0 | JG11: 0 | JH11: 0 | JI11: 0 | JJ11: 0 | JK11: 1 | JL11: 0 | JM11: 1 | JN11: 3 | JP11: 10 | JQ11: 113 | JR11: 1 | JS11: 1 | JT11: 1 | JU11: 0 | JV11: 1 | JW11: 1 | JX11: 0 | JY11: 0 | KA11: 1 | KB11: 0 | KC11: 0 | KD11: 0 | KF11: 1 | KG11: 1 | KH11: 1 | KI11: 1 | KJ11: 0 | KK11: 0 | KL11: 1 | KM11: 1 | KN11: 1 | KO11: 60 | KP11: 1 | KQ11: 1 | KR11: 1 | KS11: 65 | KT11: 1 | KU11: 0 | KX11: 0 | KY11: 0 | KZ11: 1 | LB11: 1 | LC11: 関連病院の託児所 | LD11: 1 | LE11: 1 | LG11: 1 | LH11: 0 | LI11: 0 | LJ11: 0 | LK11: 1 | LL11: 0 | LM11: 0 | LN11: 1 | LO11: 0 | LQ11: 7 | LR11: 1 | LS11: 1 | LT11: 1 | LU11: 1 | LV11: 0 | LW11: 1 | LY11: 3 | LZ11: 〒678-0081 | MA11: 兵庫県相生市若狭野町雨内８００－１４６_x000d_ みどり福祉会 グリーンハウスデイサービスセンター | MB11: 山陽本線相生 | MC11: 2 | MD11: 10 | ME11: 1 | MF11: 1 | MG11: 1 | MH11: 0 | MI11: 1 | MJ11: 資格者証のコピー | MK11: 1 | ML11: 0 | MM11: 1 | MN11: 面接時に持参 | MQ11: 2 | MS11: 採用担当者 | MU11: 求人掲載の営業はお断り | MV11: 1 | MW11: 0791-28-1756 | MY11: 0 | MZ11: 0 | NB11: m-green@eos.ocn.ne.jp | NC11: 1 | NE11: ■加入保険・有給休暇は法定どおり。_x000d_ ■駐車場有り。駐車料金無料。_x000d_ ■託児所があります。_x000d_ ■資格の無い方でも応募可能です。_x000d_ ◆６０歳以上の方、応募可能です（契約社員）_x000d_ ◆見学・相談だけでも結構ですので、お気軽にお問合せください。_x000d_ | NF11: 正社員 | NH11: 雇用期間の定めなし | NL11: あり | NM11: 変更なし | NN11: 山陽本線相生 から 車10分 | NP11: 82人 | NQ11: 66人 | NR11: 31人 | NS11: あり（屋内禁煙） | NT11: 可 | NU11: 駐車場 あり | NV11: あり | NW11: 59歳以下 | NX11: 定年を上限 | NY11: 不問 | OB11: あれば尚可 | OC11: ＊高齢者の介護業務 | OE11: 普通自動車運転免許 必須 | OF11: （AT限定可） | OG11: あれば尚可 | OJ11: 普通自動車免許（通勤用） | OL11: 月給 | ON11: 165,000円～224,000円 | OO11: 処遇手当35,000円～55,000円 | OS11: なし | OU11: =IF(OM11<>"",OM11,ON11) -> 165,000円～224,000円 | OV11: 21.0日 | OW11: 実費支給（上限あり） | OX11: 月額 30,000円まで | OY11: 毎月20日 | OZ11: 毎月29日 当月払い | PA11: 昇給あり | PB11: 前年度実績 あり | PC11: 1,000円～2,500円 | PE11: 賞与あり | PF11: 前年度実績 あり | PG11: 年2回（前年度実績） | PH11: 3.80ヶ月分 | PK11: (1)8時30分～17時30分 | PO11: なし | PQ11: なし | PR11: 60分 | PU11: 日他 | PV11: その他 | PW11: 10日 | PX11: 113日 | PY11: 雇用・労災・健康・厚生 | QA11: 退職金共済 | QB11: あり （勤続 1年以上） | QC11: あり 一律 60歳 | QD11: あり 上限 65歳まで | QE11: なし | QH11: なし | QI11: あり | QJ11: 1人 | QK11: 欠員補充 | QL11: 面接 | QM11: 1回 | QN11: 面接選考後 | QP11: 7日以内 | QQ11: 求職者マイページに連絡・郵送・電話・Ｅメール | QR11: 随時 | QS11: 山陽本線相生 から 車10分 | QT11: ハローワーク紹介状・履歴書（写真貼付）・職務経歴書・その他 | QU11: 求職者マイページ・Ｅメール | QV11: 求人者の責任にて廃棄 | QW11: ＵＩＪターン歓迎 | QX11: 外国人雇用実績 | SC11: 0人
